BEGIN:VCALENDAR
PRODID:NingEventWidget-v1
VERSION:2.0
METHOD:PUBLISH
BEGIN:VTIMEZONE
TZID:Pacific/Midway
X-LIC-LOCATION:Pacific/Midway
BEGIN:STANDARD
TZOFFSETFROM:-1100
TZOFFSETTO:-1100
TZNAME:SST
DTSTART:19700101T000000
END:STANDARD
END:VTIMEZONE
BEGIN:VEVENT
UID:3646443:Event:77486
DTSTAMP:20260420T031619Z
SUMMARY:Field Days Cover Crop Grazing: Capture the Financial Opportuni
 ty
DESCRIPTION:These field days will give crop and beef farmers the oppor
 tunity to see cover crops put to use as pasture for beef cattle. Cover
  crops have important environmental and economic value, and these work
 shops will include farmers and speakers who can share their knowledge 
 on the tools and resources available to help integrate cattle into cov
 er cropping systems as an additional business opportunity on farms.\r\
 nTopics covers:  • Cover Crops for Cattle  • Fencing Models  • N
 etworking Opportunities  • Cover Crop Walk  There are no registratio
 n fees for these events, but please register early to secure a spot by
  contacting the Agricultural Information Contact Centre by phone 1.877
 .424.1300 or by email at ag.info.omafra@ontario.ca.  A light lunch wil
 l be provided at each field day.\n\nFor more information visit https:/
 /ontag.farms.com/events/feld-days-cover-crop-grazing-capture-the-finan
 cial-opportunity
DTSTART;TZID=Pacific/Midway:20191123T090000
DTEND;TZID=Pacific/Midway:20191123T123000
CATEGORIES:seminar
LOCATION:LAMBTON SHORES
WEBSITE:https://www.ontariobeef.com/communications/news/register-now-f
 or-cover-crop-grazing-workshop-field-days
URL:https://www.ontariobeef.com/communications/news/register-now-for-c
 over-crop-grazing-workshop-field-days
CONTACT:1.877.424.1300
ORGANIZER:Beef Farmers of Ontario and the Ontario Ministry of Agricult
 ure, Food &amp; Rural Affairs
ATTACH;FMTTYPE="image/jpeg":
ATTENDEE;ROLE=REQ-PARTICIPANT;PARTSTAT=ACCEPTED;RSVP=TRUE;CN="OntAG Ad
 min":https://ontag.farms.com/profile/OntAGAdmin
END:VEVENT
END:VCALENDAR
