BEGIN:VCALENDAR
PRODID:NingEventWidget-v1
VERSION:2.0
METHOD:PUBLISH
BEGIN:VTIMEZONE
TZID:Pacific/Midway
X-LIC-LOCATION:Pacific/Midway
BEGIN:STANDARD
TZOFFSETFROM:-1100
TZOFFSETTO:-1100
TZNAME:SST
DTSTART:19700101T000000
END:STANDARD
END:VTIMEZONE
BEGIN:VEVENT
UID:3646443:Event:3629
DTSTAMP:20260420T024903Z
SUMMARY:First North American Conference on Precision Dairy Management
DESCRIPTION:Join us as we explore practical applications of dairy auto
 mation and management using sensor based data. This conference will ex
 amine the state of the art technology available today, and the limitle
 ss possibilities for the future.\n\nPrecision Dairy management is brin
 ging about a new model for labour efficient dairy production as shown 
 with the development of robotic milking, which dramatically reduces la
 bour requirements. Going beyond robotic milking, precision technology 
 can monitor cow health and welfare as well as productivity through lev
 el of activity, body weight changes, udder health and milk composition
 , thereby defining animal needs that can be met through robotic equipm
 ent that has traditionally been met though human care and labour.\n\nO
 bjectives:\n\nBring together the best technology in precision dairy ma
 nagement in the world\n\nProvide a sharing environment for researchers
 , technologists, developers and producers to expand their knowledge of
  precision management technology.\n\nStretch the boundaries of applica
 tion of technology in improved management and welfare of dairy cattle\
 n\nWho should attend?\n\nResearchers, dairy industry personnel, farmer
 s, veterinarians and anyone involved in the dairy industry should atte
 nd to exchange information and learn about the latest sophisticated te
 chnologies for milking, herd management, herd health, and advances in 
 nutrition and reproductive management.\n\nFor more information visit h
 ttps://ontag.farms.com/events/first-north-american
DTSTART;TZID=Pacific/Midway:20100302T000000
DTEND;TZID=Pacific/Midway:20100305T235900
CATEGORIES:conference
LOCATION:Doubletree by Hilton – Toronto Airport
WEBSITE:http://www.precisiondairy2010.com/
URL:http://www.precisiondairy2010.com/
CONTACT:1-519-826-4047
ORGANIZER:Committee
ATTACH;FMTTYPE="image/jpeg":http://storage.ning.com/topology/rest/1.0/
 file/get/1091501402?profile=original
ATTENDEE;ROLE=REQ-PARTICIPANT;PARTSTAT=ACCEPTED;RSVP=TRUE;CN="Richard 
 Hamilton":https://ontag.farms.com/profile/RichardHamilton
END:VEVENT
END:VCALENDAR
