BEGIN:VCALENDAR
PRODID:NingEventWidget-v1
VERSION:2.0
METHOD:PUBLISH
BEGIN:VTIMEZONE
TZID:Pacific/Midway
X-LIC-LOCATION:Pacific/Midway
BEGIN:STANDARD
TZOFFSETFROM:-1100
TZOFFSETTO:-1100
TZNAME:SST
DTSTART:19700101T000000
END:STANDARD
END:VTIMEZONE
BEGIN:VEVENT
UID:3646443:Event:67778
DTSTAMP:20260421T044914Z
SUMMARY:Flower Gardening 101
DESCRIPTION:Whilst the weather is bleak outside, join 3 Master Gardene
 rs, Rebecca Baker, Vicky Thompson and Margot Byers for a virtual tour 
 of their colour-filled gardens. They will each share their top gardeni
 ng tips, and much more.  Come armed with questions.\nWhen?      T
 ues. Mar. 28, 2017, 7:00 to 9:30 pm\nCost?        $10.00 per per
 son\nPre-Register By: Fri. Mar. 24, 2017\n \n\nFor more information v
 isit https://ontag.farms.com/events/flower-gardening-101
DTSTART;TZID=Pacific/Midway:20170328T190000
DTEND;TZID=Pacific/Midway:20170328T213000
CATEGORIES:course
LOCATION:Grey Ag Services Boardroom
WEBSITE:http://www.greyagservices.ca/index.php/grey-agricultural-servi
 ces/winter-course-registration
URL:http://www.greyagservices.ca/index.php/grey-agricultural-services/
 winter-course-registration
CONTACT:519 986-3756
ORGANIZER:Grey County Agriculture Services Centre
ATTACH;FMTTYPE="image/jpeg":http://storage.ning.com/topology/rest/1.0/
 file/get/1091547729?profile=original
ATTENDEE;ROLE=REQ-PARTICIPANT;PARTSTAT=ACCEPTED;RSVP=TRUE;CN="Grey Bru
 ce Farmers' Week":https://ontag.farms.com/profile/GreyBruceFarmersWeek
END:VEVENT
END:VCALENDAR
