BEGIN:VCALENDAR
PRODID:NingEventWidget-v1
VERSION:2.0
METHOD:PUBLISH
BEGIN:VTIMEZONE
TZID:Pacific/Midway
X-LIC-LOCATION:Pacific/Midway
BEGIN:STANDARD
TZOFFSETFROM:-1100
TZOFFSETTO:-1100
TZNAME:SST
DTSTART:19700101T000000
END:STANDARD
END:VTIMEZONE
BEGIN:VEVENT
UID:3646443:Event:32565
DTSTAMP:20260422T134447Z
SUMMARY:Focus on Production Forum - Ontario Goat, Veal and Rabbit
DESCRIPTION:\n\nFor more information visit https://ontag.farms.com/eve
 nts/focus-on-production-forum-ontario-goat-veal-and-rabbit
DTSTART;TZID=Pacific/Midway:20120606T093000
DTEND;TZID=Pacific/Midway:20120606T151500
CATEGORIES:forum
LOCATION:Stratford Rotary Complex
WEBSITE:http://www.ogba.ca/pdfs/Forum/fop-flyer-revised.pdf
URL:http://www.ogba.ca/pdfs/Forum/fop-flyer-revised.pdf
CONTACT:519-824-2942
ORGANIZER;CN="OntAG Admin":https://ontag.farms.com/profile/OntAGAdmin
ATTACH;FMTTYPE="image/jpeg":http://storage.ning.com/topology/rest/1.0/
 file/get/1091515181?profile=original
ATTENDEE;ROLE=REQ-PARTICIPANT;PARTSTAT=ACCEPTED;RSVP=TRUE;CN="OntAG Ad
 min":https://ontag.farms.com/profile/OntAGAdmin
END:VEVENT
END:VCALENDAR
