BEGIN:VCALENDAR
PRODID:NingEventWidget-v1
VERSION:2.0
METHOD:PUBLISH
BEGIN:VTIMEZONE
TZID:Pacific/Midway
X-LIC-LOCATION:Pacific/Midway
BEGIN:STANDARD
TZOFFSETFROM:-1100
TZOFFSETTO:-1100
TZNAME:SST
DTSTART:19700101T000000
END:STANDARD
END:VTIMEZONE
BEGIN:VEVENT
UID:3646443:Event:77976
DTSTAMP:20260423T012512Z
SUMMARY:Focus on Women in Agriculture
DESCRIPTION:Focus on Women in Agriculture conference to be held on Apr
 il 23, 2020, at Ivey Spencer Leadership Centre, London, Ontario. Organ
 ised by Canadian Association of Farm Advisors (CAFA). CAFA is the nati
 onally recognized organization for professional farm advisors. CAFA ad
 visors maintain high standards while continually increasing farm advis
 ory skills and knowledge intended to provide measurable value to their
  farm clients.  (more details about the event coming soon)\n\nFor more
  information visit https://ontag.farms.com/events/focus-on-women-in-ag
 riculture
DTSTART;TZID=Pacific/Midway:20200423T090000
DTEND;TZID=Pacific/Midway:20200423T160000
CATEGORIES:conferences
LOCATION:Ivey Spencer Leadership Centre
WEBSITE:https://www.cafanet.ca/event/focus-on-women-in-agriculture-2/
URL:https://www.cafanet.ca/event/focus-on-women-in-agriculture-2/
CONTACT:1-877-474-2871
ORGANIZER:Canadian Association of Farm Advisors (CAFA)
ATTACH;FMTTYPE="image/jpeg":
ATTENDEE;ROLE=REQ-PARTICIPANT;PARTSTAT=ACCEPTED;RSVP=TRUE;CN="OntAG Ad
 min":https://ontag.farms.com/profile/OntAGAdmin
END:VEVENT
END:VCALENDAR
