BEGIN:VCALENDAR
PRODID:NingEventWidget-v1
VERSION:2.0
METHOD:PUBLISH
BEGIN:VTIMEZONE
TZID:Pacific/Midway
X-LIC-LOCATION:Pacific/Midway
BEGIN:STANDARD
TZOFFSETFROM:-1100
TZOFFSETTO:-1100
TZNAME:SST
DTSTART:19700101T000000
END:STANDARD
END:VTIMEZONE
BEGIN:VEVENT
UID:3646443:Event:68493
DTSTAMP:20260422T170323Z
SUMMARY:FOOD ENTREPRENEURSHIP SPEAKERS SERIES
DESCRIPTION:Agri-Tourism: Are You Ready for Visitors?Looking for a new
  way to increase your bottom line? Creating agri-tourism experiences a
 nd on-farm products are a great way to help increase your business, co
 nnect with customers and educate people about where their food comes f
 rom. Kim Clarke, Tourism Experience Development Specialist from Region
 al Tourism Organization 7 will guide you through product vs. experienc
 es, the progression of economic value, and what it takes to be market-
 ready.Cost:$15You can fill out online registration forms at www.invest
 ingrey.ca\n\nFor more information visit https://ontag.farms.com/events
 /food-entrepreneurship-speakers-series
DTSTART;TZID=Pacific/Midway:20170308T070000
DTEND;TZID=Pacific/Midway:20170308T210000
CATEGORIES:workshop
LOCATION:Simcoe Street Theatre
WEBSITE:http://edo.simcoe.ca/Shared%20Documents/January%206%202017%20-
 %20Fillable%20Registration%20Form%20-%20Workshops.pdf
URL:http://edo.simcoe.ca/Shared%20Documents/January%206%202017%20-%20F
 illable%20Registration%20Form%20-%20Workshops.pdf
CONTACT:705-729-9300 ext. 1429
ORGANIZER;CN="OntAG Admin":https://ontag.farms.com/profile/OntAGAdmin
ATTACH;FMTTYPE="image/jpeg":
END:VEVENT
END:VCALENDAR
