BEGIN:VCALENDAR
PRODID:NingEventWidget-v1
VERSION:2.0
METHOD:PUBLISH
BEGIN:VTIMEZONE
TZID:Pacific/Midway
X-LIC-LOCATION:Pacific/Midway
BEGIN:STANDARD
TZOFFSETFROM:-1100
TZOFFSETTO:-1100
TZNAME:SST
DTSTART:19700101T000000
END:STANDARD
END:VTIMEZONE
BEGIN:VEVENT
UID:3646443:Event:12877
DTSTAMP:20260419T211542Z
SUMMARY:Food & Farming: An Action Plan 2021
DESCRIPTION:f you are vitally interested in helping to forge a strong 
 future for food and farming in Ontario's Golden Horseshoe, please join
  us on\nWednesday, March 30, 2011 at the\nDelta Meadowvale Resort and 
 Conference Centre, Mississauga for a\nSummit on the \nGolden Horsesho
 e Food and Farming Strategy and Action Plan 2021\nContinental Breakfas
 t and Registration:  8:30 a.m.; Program begins:  9:00 a.m.  The focu
 s of the day will be to solicit concrete actions from industry stakeho
 lders to grow the food and farming cluster in Ontario’s Golden Horse
 shoe. \n\n\nKeynote Speaker:   Bob Seguin, George Morris Center, Gu
 elph\n“The Golden Horseshoe – a Golden Opportunity”\nParticipant
 s will be challenged by a summary of the study findings to date by lea
 d consultant  Margaret Walton of Planscape\nFrom Niagara and Hamilton
  through the GTA and Holland Marsh, the Golden Horseshoe Food and Farm
 ing Strategy and Action Plan 2021 will strengthen Ontario’s second l
 argest economic driver, which includes agriculture, agri-business and 
 food processing.  \n\nThe Action Plan is poised to position the sect
 or as a solutions provider to help feed the world's growing population
 , reduce Ontario's health care costs through healthy food choices, and
  be a green source of heat and power. \nSummit RSVP should be made to
  the Region of Durham Planning Department at 1-800-372-1102 x 2551 or 
 by email at planning@durham.ca.  Media RSVP: Email anne_thompson@roge
 rs.com\n\nFor more information visit https://ontag.farms.com/events/fo
 od-farming-an-action-plan
DTSTART;TZID=Pacific/Midway:20110330T083000
DTEND;TZID=Pacific/Midway:20110330T160000
CATEGORIES:consultation
LOCATION:Delta Meadowvale Resort & Conference Centre, Mississauga
WEBSITE:http://www.gtaaac.ca
URL:http://www.gtaaac.ca
CONTACT:
ORGANIZER:
ATTACH;FMTTYPE="image/jpeg":
ATTENDEE;ROLE=REQ-PARTICIPANT;PARTSTAT=ACCEPTED;RSVP=TRUE;CN="Golden H
 orseshoe SCIA":https://ontag.farms.com/profile/GoldenHorseshoeSCIA
END:VEVENT
END:VCALENDAR
