BEGIN:VCALENDAR
PRODID:NingEventWidget-v1
VERSION:2.0
METHOD:PUBLISH
BEGIN:VTIMEZONE
TZID:Pacific/Midway
X-LIC-LOCATION:Pacific/Midway
BEGIN:STANDARD
TZOFFSETFROM:-1100
TZOFFSETTO:-1100
TZNAME:SST
DTSTART:19700101T000000
END:STANDARD
END:VTIMEZONE
BEGIN:VEVENT
UID:3646443:Event:40570
DTSTAMP:20260421T145739Z
SUMMARY:Food Farms Fish And Finance
DESCRIPTION:Keynote by Michael Shuman Saturday, May 25Michael Shuman i
 s director of research for Cutting Edge Capital, and the BusinessAllia
 nce for Local Living Economies. He is a Fellow of the Post Carbon Inst
 itute andauthor of The Small Mart Revolution: How Local Businesses are
  Beating the GlobalCompetition.\nAgendaSaturday, May 25Panel discussio
 ns:\n\nCritical Challenges Facing Food Business Viability, Stewardship
  and Financing\nPrivate and Institutional Investment Partners in the F
 ood System\nCommunity Financing in Food, Farms and Fish\nMoving Social
  Finance Forward\n\nKeynote by Michael ShumanEvening reception\nSunday
 , May 26Food Systems Finance Lab:\n\nFocused feedback for innovating a
 nd emerging food system enterprises and initiatives.\n\nStrategic sess
 ions including:\n\nDig into strategies that help us to share inter ge
 nerational stewardship of productive resources with producers.\nIncre
 ase the opportunities and impact of local investment in food system\n\
 nenterprises.\nInformation and registration at www.sustainontario.ca/
 foodfinance\n\n\nFor more information visit https://ontag.farms.com/ev
 ents/food-farms-fish-and-finance
DTSTART;TZID=Pacific/Midway:20130525T000000
DTEND;TZID=Pacific/Midway:20130526T235900
CATEGORIES:meeting
LOCATION:Centre for Social Innovation - Annex
WEBSITE:http://sustainontario.com/foodfinance
URL:http://sustainontario.com/foodfinance
CONTACT:
ORGANIZER;CN="OntAG Admin":https://ontag.farms.com/profile/OntAGAdmin
ATTACH;FMTTYPE="image/jpeg":http://storage.ning.com/topology/rest/1.0/
 file/get/1091520847?profile=original
ATTENDEE;ROLE=REQ-PARTICIPANT;PARTSTAT=ACCEPTED;RSVP=TRUE;CN="OntAG Ad
 min":https://ontag.farms.com/profile/OntAGAdmin
END:VEVENT
END:VCALENDAR
