BEGIN:VCALENDAR
PRODID:NingEventWidget-v1
VERSION:2.0
METHOD:PUBLISH
BEGIN:VTIMEZONE
TZID:Pacific/Midway
X-LIC-LOCATION:Pacific/Midway
BEGIN:STANDARD
TZOFFSETFROM:-1100
TZOFFSETTO:-1100
TZNAME:SST
DTSTART:19700101T000000
END:STANDARD
END:VTIMEZONE
BEGIN:VEVENT
UID:3646443:Event:47043
DTSTAMP:20260423T080413Z
SUMMARY:Forage Focus 2013
DESCRIPTION:Forage Focus 2013 will take place in Winchester on Wednesd
 ay November 27th at Winchester Community Centre from 10am to 3pm.  Th
 is year`s Keynote speaker is Dan Undersander from the University of Wi
 sconsin-Agronomy Department.\nThe cost of this years’ conference is 
 $40, and includes conference proceedings and a hot roast beef lunch. 
  Books of 10 tickets are available at a reduced rate to treat customer
 s, or staff.  Registration deadline is November 25th, registrations w
 ill be accepted at the door, but may not include the hot roast beef lu
 nch.  Registration is available by phone, or mail.  Visa and Masterc
 ard accepted by phone.  Please make cheques payable to the Ontario Fo
 rage Council.\nTradeshow and sponsorship opportunities are still avail
 able for both days of this conference.  Spaces will fill quickly, so 
 don’t hesitate.  Forage Focus is an excellent opportunity to advert
 ise your business in the eastern part of the province! \nFor more inf
 ormation on sponsorship/tradeshow opportunities, or to register please
  contact:\nOntario Forage Council\nRay Robertson, Manager or Patricia 
 Ellingwood, Executive Assistant\nPhone:  (519)986-1484, or 1-877-892-
 8663\nhttp://ontarioforagecouncil.com/\n\nFor more information visit h
 ttps://ontag.farms.com/events/forage-focus-2013
DTSTART;TZID=Pacific/Midway:20131127T100000
DTEND;TZID=Pacific/Midway:20131127T150000
CATEGORIES:conference
LOCATION:Winchester Community Centre
WEBSITE:http://www.arenamaps.com/arenas/1966.htm
URL:http://www.arenamaps.com/arenas/1966.htm
CONTACT:1-877-892-8663
ORGANIZER;CN="Ontario Forage Council":https://ontag.farms.com/profile/
 OntarioForageCouncil403
ATTACH;FMTTYPE="image/jpeg":
ATTENDEE;ROLE=REQ-PARTICIPANT;PARTSTAT=ACCEPTED;RSVP=TRUE;CN="Chuck La
 ing":https://ontag.farms.com/profile/ChuckLaing
ATTENDEE;ROLE=REQ-PARTICIPANT;PARTSTAT=ACCEPTED;RSVP=TRUE;CN="Ontario 
 Forage Council":https://ontag.farms.com/profile/OntarioForageCouncil40
 3
END:VEVENT
END:VCALENDAR
