BEGIN:VCALENDAR
PRODID:NingEventWidget-v1
VERSION:2.0
METHOD:PUBLISH
BEGIN:VTIMEZONE
TZID:Pacific/Midway
X-LIC-LOCATION:Pacific/Midway
BEGIN:STANDARD
TZOFFSETFROM:-1100
TZOFFSETTO:-1100
TZNAME:SST
DTSTART:19700101T000000
END:STANDARD
END:VTIMEZONE
BEGIN:VEVENT
UID:3646443:Event:70582
DTSTAMP:20260424T124317Z
SUMMARY:Forage Focus 2017
DESCRIPTION:The Ontario Forage Council is proud to announce our upcomi
 ng annual Forage Focus Conference 2017.  The conference will be held 
 in Winchester on Wednesday, December 13th at the Joel Steele Community
  Centre.  The program will begin with registration and trade show, fr
 om 9 - 10 am, and speakers until 3:30pm.  Presentations are CEU accre
 dited.  The cost of this years’ conference is $40, and includes con
 ference proceedings and a hot lunch.\nThe keynote speaker at Forage Fo
 cus 2017 will be Robert Berthiaume, Dairy Production Expert in Forage 
 Systems.  Robert Berthiaume obtained his B.Sc. in Agricultural Econom
 ics from Laval University, his M.Sc. and Ph.D. in animal science from 
 the University of Guelph.  From 1989 to 2012, Robert was a member of 
 the nutrition team at the Dairy & Swine research centre (AAC) in Lenno
 xville.  From 2012 to 2017, Robert joined the R&D department at Valac
 ta as dairy production expert in forage systems. Robert retired in Jul
 y 2012 and does consulting work.\nBooks of 10 tickets are available to
  treat customers, or staff.  Registration deadline is December 8, 201
 7.  Registrations will be accepted at the door, but may not include t
 he hot lunch.  Registration is available by phone, or mail.  Visa an
 d Mastercard accepted by phone.  Please make cheques payable to the O
 ntario Forage Council.\nTradeshow and sponsorship opportunities are st
 ill available for both days of this conference.  Spaces will fill qui
 ckly, so don’t hesitate.  Forage Focus is an excellent opportunity 
 to advertise your business to your target audience! \n\n\nFor more in
 formation visit https://ontag.farms.com/events/forage-focus-2017-1
DTSTART;TZID=Pacific/Midway:20171213T090000
DTEND;TZID=Pacific/Midway:20171213T150000
CATEGORIES:conference
LOCATION:Joel Steele Community Centre
WEBSITE:http://ontarioforagecouncil.com/programs/forage-focus
URL:http://ontarioforagecouncil.com/programs/forage-focus
CONTACT:1-877-892-8663
ORGANIZER;CN="Ontario Forage Council":https://ontag.farms.com/profile/
 OntarioForageCouncil403
ATTACH;FMTTYPE="image/jpeg":http://storage.ning.com/topology/rest/1.0/
 file/get/1091549200?profile=original
ATTENDEE;ROLE=REQ-PARTICIPANT;PARTSTAT=ACCEPTED;RSVP=TRUE;CN="Ontario 
 Forage Council":https://ontag.farms.com/profile/OntarioForageCouncil40
 3
END:VEVENT
END:VCALENDAR
