BEGIN:VCALENDAR
PRODID:NingEventWidget-v1
VERSION:2.0
METHOD:PUBLISH
BEGIN:VTIMEZONE
TZID:Pacific/Midway
X-LIC-LOCATION:Pacific/Midway
BEGIN:STANDARD
TZOFFSETFROM:-1100
TZOFFSETTO:-1100
TZNAME:SST
DTSTART:19700101T000000
END:STANDARD
END:VTIMEZONE
BEGIN:VEVENT
UID:3646443:Event:70195
DTSTAMP:20260423T100513Z
SUMMARY:Forage Focus 2017
DESCRIPTION:The Ontario Forage Council is proud to announce our upcomi
 ng annual Forage Focus Conference 2017.  The conference will be held 
 in Shakespeare on Tuesday, December 12, 2017 at the Shakespeare Optimi
 st Hall.  The program and schedule will begin with registration and 
 trade show, from 9 - 10 am, and speakers until 3:30pm.  Presentations
  are CEU accredited.  The cost of this years’ conference is $40, an
 d includes conference proceedings and a hot lunch.\nThe keynote speake
 r at Forage Focus 2017 will be Robert Berthiaume, Dairy Production Exp
 ert in Forage Systems.  Robert Berthiaume obtained his B.Sc. in Agric
 ultural Economics from Laval University, his M.Sc. and Ph.D. in animal
  science from the University of Guelph.  From 1989 to 2012, Robert wa
 s a member of the nutrition team at the Dairy & Swine research centre 
 (AAC) in Lennoxville.  From 2012 to 2017, Robert joined the R&D depar
 tment at Valacta as dairy production expert in forage systems. Robert 
 retired in July 2012 and does consulting work.\nBooks of 10 tickets ar
 e available to treat customers, or staff.  Registration deadline is D
 ecember 8, 2017.  Registrations will be accepted at the door, but may
  not include the hot lunch.  Registration is available by phone, or m
 ail.  Visa and Mastercard accepted by phone.  Please make cheques pa
 yable to the Ontario Forage Council.\nTradeshow and sponsorship opport
 unities are still available for both days of this conference.  Spaces
  will fill quickly, so don’t hesitate.  Forage Focus is an excellen
 t opportunity to advertise your business to your target audience! \n\
 n\nFor more information visit https://ontag.farms.com/events/forage-fo
 cus-2017
DTSTART;TZID=Pacific/Midway:20171212T090000
DTEND;TZID=Pacific/Midway:20171212T150000
CATEGORIES:conference
LOCATION:Shakespeare and District Optimist Hall
WEBSITE:http://ontarioforagecouncil.com/programs/forage-focus
URL:http://ontarioforagecouncil.com/programs/forage-focus
CONTACT:1 877-892-8663
ORGANIZER;CN="Ontario Forage Council":https://ontag.farms.com/profile/
 OntarioForageCouncil403
ATTACH;FMTTYPE="image/jpeg":http://storage.ning.com/topology/rest/1.0/
 file/get/1091553047?profile=original
ATTENDEE;ROLE=REQ-PARTICIPANT;PARTSTAT=ACCEPTED;RSVP=TRUE;CN="Ontario 
 Forage Council":https://ontag.farms.com/profile/OntarioForageCouncil40
 3
END:VEVENT
END:VCALENDAR
