BEGIN:VCALENDAR
PRODID:NingEventWidget-v1
VERSION:2.0
METHOD:PUBLISH
BEGIN:VTIMEZONE
TZID:Pacific/Midway
X-LIC-LOCATION:Pacific/Midway
BEGIN:STANDARD
TZOFFSETFROM:-1100
TZOFFSETTO:-1100
TZNAME:SST
DTSTART:19700101T000000
END:STANDARD
END:VTIMEZONE
BEGIN:VEVENT
UID:3646443:Event:101978
DTSTAMP:20260419T134212Z
SUMMARY:Forage Focus 2020 - Baleage, Fail-age, and Garbage - Kendall G
 uither
DESCRIPTION:Ontario Forage Council is pleased to bring back the Forage
  Focus conference! This year we will be hosting one webinar per day fo
 r three days during the first week of December.\n \nForage Focus: Wra
 p It Up - Harvest, Storage, and Recycling\nDecember 1, 2 & 3\nFree web
 inars\nRegistration: https://events.eventzilla.net/e/forage-focus-2020
 -2138790787?resp=on&dateid=2138536457\n1:00 - 2:00 pm EST (noon - 1 pm
  CST)\nMore details at: http://ontarioforagecouncil.com/programs/forag
 e-focus\nDecember 1: Baleage, Fail-age, and Garbage - Kendall Guither,
  farmer\nQuality is the name of the game when making baleage.  This p
 resentation will summarize a number of things Mr. Guither has learned 
 over 23 years to help one make and maintain quality baleage, from the 
 moment the forage is cut until it is fed.  No matter where one lives,
  these ideas can be utilized.  Mr. Guither will discuss different fac
 tors that affect quality and why each is important.  These factors in
 clude plant maturity, dry down rate after cutting, raking, baling, whe
 n to wrap, styles of wrappers, and different bale wrap plastics.\n\n\n
 For more information visit https://ontag.farms.com/events/forage-focus
 -2020-baleage-fail-age-and-garbage-kendall-guither
DTSTART;TZID=Pacific/Midway:20201201T130000
DTEND;TZID=Pacific/Midway:20201201T140000
CATEGORIES:webinar
LOCATION:Online Webinar
WEBSITE:https://events.eventzilla.net/e/forage-focus-2020-2138790787?r
 esp=on&amp;dateid=2138536457
URL:https://events.eventzilla.net/e/forage-focus-2020-2138790787?resp=
 on&amp;dateid=2138536457
CONTACT:877-892-8663
ORGANIZER;CN="Ontario Forage Council":https://ontag.farms.com/profile/
 OntarioForageCouncil403
ATTACH;FMTTYPE="image/jpeg":https://storage.ning.com/topology/rest/1.0
 /file/get/8218075682?profile=original
ATTENDEE;ROLE=REQ-PARTICIPANT;PARTSTAT=ACCEPTED;RSVP=TRUE;CN="Ontario 
 Forage Council":https://ontag.farms.com/profile/OntarioForageCouncil40
 3
END:VEVENT
END:VCALENDAR
