BEGIN:VCALENDAR
PRODID:NingEventWidget-v1
VERSION:2.0
METHOD:PUBLISH
BEGIN:VTIMEZONE
TZID:Pacific/Midway
X-LIC-LOCATION:Pacific/Midway
BEGIN:STANDARD
TZOFFSETFROM:-1100
TZOFFSETTO:-1100
TZNAME:SST
DTSTART:19700101T000000
END:STANDARD
END:VTIMEZONE
BEGIN:VEVENT
UID:3646443:Event:101949
DTSTAMP:20260419T024401Z
SUMMARY:Forage Focus 2020 - Hitting the Bullseye on Forage Quality - J
 ohn Winchell, Alltech
DESCRIPTION:Ontario Forage Council is pleased to bring back the Forage
  Focus conference! This year we will be hosting one webinar per day fo
 r three days during the first week of December.\n\nForage Focus: Wrap 
 It Up - Harvest, Storage, and Recycling\nDecember 1, 2 & 3\nFree webin
 ars\nRegistration: https://events.eventzilla.net/e/forage-focus-2020-2
 138790787?resp=on&dateid=2138536457\n1:00 - 2:00 pm EST (noon - 1 pm C
 ST)\nMore details at: http://ontarioforagecouncil.com/programs/forage-
 focus\n\nDecember 3: Hitting the Bullseye on Forage Quality - John Win
 chell, Alltech\nUsing cues from Mother Nature along with weather, anal
 ytics, and a touch of common sense to hit the target on forage quality
 .\n\nFor more information visit https://ontag.farms.com/events/forage-
 focus-2020-hitting-the-bullseye-on-forage-quality-john
DTSTART;TZID=Pacific/Midway:20201203T130000
DTEND;TZID=Pacific/Midway:20201203T140000
CATEGORIES:webinar
LOCATION:Online Webinar
WEBSITE:https://events.eventzilla.net/e/forage-focus-2020-2138790787?r
 esp=on&amp;amp;dateid=2138536457
URL:https://events.eventzilla.net/e/forage-focus-2020-2138790787?resp=
 on&amp;amp;dateid=2138536457
CONTACT:877-892-8663
ORGANIZER;CN="Ontario Forage Council":https://ontag.farms.com/profile/
 OntarioForageCouncil403
ATTACH;FMTTYPE="image/jpeg":https://storage.ning.com/topology/rest/1.0
 /file/get/8218104085?profile=original
ATTENDEE;ROLE=REQ-PARTICIPANT;PARTSTAT=ACCEPTED;RSVP=TRUE;CN="Ontario 
 Forage Council":https://ontag.farms.com/profile/OntarioForageCouncil40
 3
END:VEVENT
END:VCALENDAR
