BEGIN:VCALENDAR
PRODID:NingEventWidget-v1
VERSION:2.0
METHOD:PUBLISH
BEGIN:VTIMEZONE
TZID:Pacific/Midway
X-LIC-LOCATION:Pacific/Midway
BEGIN:STANDARD
TZOFFSETFROM:-1100
TZOFFSETTO:-1100
TZNAME:SST
DTSTART:19700101T000000
END:STANDARD
END:VTIMEZONE
BEGIN:VEVENT
UID:3646443:Event:107796
DTSTAMP:20260421T171528Z
SUMMARY:Forage Focus - Understanding your forage analysis - Anit Heeg
DESCRIPTION:Ontario Forage Council is pleased to bring back the Forage
  Focus conference! This year we will be hosting one webinar per day fo
 r three days during the first week of December. We would greatly appre
 ciate it if you could share the following information via your communi
 cations channels.\nRegister Now\nForage Focus: Understanding Forage Qu
 ality\nNovember 1 - December 2, 2021\nFree webinars\nRegistration: htt
 ps://events.eventzilla.net/e/forage-focus-2021-2138832593\n12:00 - 1:0
 0 pm EST (11am - 12 pm CST)\nMore details at: https://onforagenetwork.
 ca/ontario-forage-council/forage-focus/\n \nDecember 1: Understanding
  your forage analysis – Anita\nThank you sponsors: A&L Canada Labora
 tories, SGS Canada Inc., SteelHead Ag, and CleanFix\n\nFor more inform
 ation visit https://ontag.farms.com/events/forage-focus-understanding-
 your-forage-analysis-anit-heeg
DTSTART;TZID=Pacific/Midway:20211201T120000
DTEND;TZID=Pacific/Midway:20211201T130000
CATEGORIES:confrence
LOCATION:online
WEBSITE:https://onforagenetwork.ca/ontario-forage-council/forage-focus
 /
URL:https://onforagenetwork.ca/ontario-forage-council/forage-focus/
CONTACT:877-892-8663
ORGANIZER;CN="Ontario Forage Council":https://ontag.farms.com/profile/
 OntarioForageCouncil403
ATTACH;FMTTYPE="image/jpeg":https://storage.ning.com/topology/rest/1.0
 /file/get/9577860665?profile=original
ATTENDEE;ROLE=REQ-PARTICIPANT;PARTSTAT=ACCEPTED;RSVP=TRUE;CN="Ontario 
 Forage Council":https://ontag.farms.com/profile/OntarioForageCouncil40
 3
END:VEVENT
END:VCALENDAR
