BEGIN:VCALENDAR
PRODID:NingEventWidget-v1
VERSION:2.0
METHOD:PUBLISH
BEGIN:VTIMEZONE
TZID:Pacific/Midway
X-LIC-LOCATION:Pacific/Midway
BEGIN:STANDARD
TZOFFSETFROM:-1100
TZOFFSETTO:-1100
TZNAME:SST
DTSTART:19700101T000000
END:STANDARD
END:VTIMEZONE
BEGIN:VEVENT
UID:3646443:Event:109437
DTSTAMP:20260419T040852Z
SUMMARY:FREE Virtual Webinar: Things To Consider When Implementing A V
 accine Policy
DESCRIPTION:Vaccinations are a valuable tool for reducing illness and 
 transmission risk, both in the community and our workplace. Join to he
 ar form expert Mathews Dinsdale HR Lawyers and learn more about the be
 nefits and challenges, as well as the considerations and steps to empl
 oy a vaccine policy in an agricultural workplace.\r\nWSPS in collabora
 tion with OMAFRA is offering a series of free virtual webinars specifi
 c for agri-food businesses.To register, Please click here\n\nFor more 
 information visit https://ontag.farms.com/events/free-virtual-webinar-
 things-to-consider-when-implementing-a-vacci
DTSTART;TZID=Pacific/Midway:20220120T103000
DTEND;TZID=Pacific/Midway:20220120T120000
CATEGORIES:virtual, event
LOCATION:online
WEBSITE:https://shop.wsps.ca/collections/things-to-consider-when-imple
 menting-a-vaccine-policy-agri-food-workplaces
URL:https://shop.wsps.ca/collections/things-to-consider-when-implement
 ing-a-vaccine-policy-agri-food-workplaces
CONTACT:1 877 494 WSPS (9777)
ORGANIZER:Workplace Safety &amp; Prevention Services (WSPS)
ATTACH;FMTTYPE="image/jpeg":https://storage.ning.com/topology/rest/1.0
 /file/get/10012120888?profile=original
ATTENDEE;ROLE=REQ-PARTICIPANT;PARTSTAT=ACCEPTED;RSVP=TRUE;CN="OntAG Ad
 min":https://ontag.farms.com/profile/OntAGAdmin
END:VEVENT
END:VCALENDAR
