BEGIN:VCALENDAR
PRODID:NingEventWidget-v1
VERSION:2.0
METHOD:PUBLISH
BEGIN:VTIMEZONE
TZID:Pacific/Midway
X-LIC-LOCATION:Pacific/Midway
BEGIN:STANDARD
TZOFFSETFROM:-1100
TZOFFSETTO:-1100
TZNAME:SST
DTSTART:19700101T000000
END:STANDARD
END:VTIMEZONE
BEGIN:VEVENT
UID:3646443:Event:78428
DTSTAMP:20260421T081259Z
SUMMARY:FREE Webinar: COVID 19, what Ag Producers Need to Know
DESCRIPTION:This March 23 webinar pulls together experts in Infectious
  Disease Aerobiology, Zoonotic Disease, Infectious Disease Surveillanc
 e, Community Health, etc., all geared to an ag audience.\r\nSummary:\r
 \nCoronavirus has gained attention worldwide as an emerging infectious
  disease. This webinar is intended to share evidence-based information
  about COVID19 and to help agricultural producers identify strategies 
 for responding on their farm.\r\nIntended Audience:\r\nAgricultural pr
 oducers, ranchers, farmers, farmworkers, veterinarians, Extension pers
 onnel, rural health care providers, and others who work in agriculture
 .\r\nObjectives:\r\nAt the end of the webinar, participants will be ab
 le to:\r\n\r\nBe aware of common signs and symptoms of COVID-19\r\nUnd
 erstand the transmission risk to yourself, employees, and potentially 
 your animals\r\nDescribe infection control principles and appropriate 
 strategies for limiting disease transmission\r\nLocate resources and t
 raining for Ag producers related to infection prevention\r\nIf you can
 not attend the live event, a recording of this webinar will be availab
 le in the AgriSafe Learning Lab shortly after the event is over.\r\n\r
 \nTo register for this webinar, please click on the 'register here' bo
 x below.\r\nRegistration will take place in the AgriSafe Learning Lab.
  If you are not currently an AgriSafe member, you can still register a
 fter setting up a guest account.\r\n Register Here\r\n\r\n\n\nFor more
  information visit https://ontag.farms.com/events/free-webinar-covid-1
 9-what-ag-producers-need-to-know
DTSTART;TZID=Pacific/Midway:20200323T120000
DTEND;TZID=Pacific/Midway:20200323T131500
CATEGORIES:webinar
LOCATION:AgriSafe Network
WEBSITE:http://www.agrisafe.org
URL:http://www.agrisafe.org
CONTACT:1-866-312-3002
ORGANIZER:AgriSafe Network
ATTACH;FMTTYPE="image/jpeg":
ATTENDEE;ROLE=REQ-PARTICIPANT;PARTSTAT=ACCEPTED;RSVP=TRUE;CN="OntAG Ad
 min":https://ontag.farms.com/profile/OntAGAdmin
END:VEVENT
END:VCALENDAR
