BEGIN:VCALENDAR
PRODID:NingEventWidget-v1
VERSION:2.0
METHOD:PUBLISH
BEGIN:VTIMEZONE
TZID:Pacific/Midway
X-LIC-LOCATION:Pacific/Midway
BEGIN:STANDARD
TZOFFSETFROM:-1100
TZOFFSETTO:-1100
TZNAME:SST
DTSTART:19700101T000000
END:STANDARD
END:VTIMEZONE
BEGIN:VEVENT
UID:3646443:Event:58706
DTSTAMP:20260421T051541Z
SUMMARY:FREE Workshop on Windbreaks - Ramara
DESCRIPTION:Watch Benefits of Windbread video click here\n\n\nFor mor
 e information visit https://ontag.farms.com/events/free-workshop-on-wi
 ndbreaks
DTSTART;TZID=Pacific/Midway:20141108T093000
DTEND;TZID=Pacific/Midway:20141108T113000
CATEGORIES:windbreak, workshop
LOCATION:Udney Community Centre
WEBSITE:http://worthywindbreaksworkshops2.eventbrite.com
URL:http://worthywindbreaksworkshops2.eventbrite.com
CONTACT:
ORGANIZER:Leap / Forests Ontario / Trees Ontario
ATTACH;FMTTYPE="image/jpeg":
ATTENDEE;ROLE=REQ-PARTICIPANT;PARTSTAT=ACCEPTED;RSVP=TRUE;CN="OntAG Ad
 min":https://ontag.farms.com/profile/OntAGAdmin
END:VEVENT
END:VCALENDAR
