BEGIN:VCALENDAR
PRODID:NingEventWidget-v1
VERSION:2.0
METHOD:PUBLISH
BEGIN:VTIMEZONE
TZID:Pacific/Midway
X-LIC-LOCATION:Pacific/Midway
BEGIN:STANDARD
TZOFFSETFROM:-1100
TZOFFSETTO:-1100
TZNAME:SST
DTSTART:19700101T000000
END:STANDARD
END:VTIMEZONE
BEGIN:VEVENT
UID:3646443:Event:20637
DTSTAMP:20260421T154146Z
SUMMARY:Fresh From the Field: A Farmers Feed Cities Event Series
DESCRIPTION:Join us at our inaugural event  for an evening of local f
 are in support of Farmers Feed Cities hosted in partnership by local f
 ood advocate, chef and restaurateur, Brad Long - featuring the wines o
 f Southbrook Vineyards and beers from Muskoka Brewery. Meet Chef Long,
  the winemakers and brewers. Learn about farming in Ontario and the fo
 ods unique to each region. Local food & drink in an outdoor, sustainab
 le and urban green space.\nAll are welcome. For more event details or 
 to request tickets please visit: www.farmersfeedcities.com\n\nFor more
  information visit https://ontag.farms.com/events/fresh-from-the-field
 -a-farmers
DTSTART;TZID=Pacific/Midway:20110811T183000
DTEND;TZID=Pacific/Midway:20110811T213000
CATEGORIES:fundraiser
LOCATION:Evergreen Brick Works
WEBSITE:http://www.FarmersFeedCities.com
URL:http://www.FarmersFeedCities.com
CONTACT:(519) 767-4120
ORGANIZER;CN="Jenny Van Rooy":https://ontag.farms.com/profile/JennyVan
 Rooy
ATTACH;FMTTYPE="image/jpeg":http://storage.ning.com/topology/rest/1.0/
 file/get/1091511597?profile=original
ATTENDEE;ROLE=REQ-PARTICIPANT;PARTSTAT=ACCEPTED;RSVP=TRUE;CN="Jenny Va
 n Rooy":https://ontag.farms.com/profile/JennyVanRooy
END:VEVENT
END:VCALENDAR
