BEGIN:VCALENDAR
PRODID:NingEventWidget-v1
VERSION:2.0
METHOD:PUBLISH
BEGIN:VTIMEZONE
TZID:Pacific/Midway
X-LIC-LOCATION:Pacific/Midway
BEGIN:STANDARD
TZOFFSETFROM:-1100
TZOFFSETTO:-1100
TZNAME:SST
DTSTART:19700101T000000
END:STANDARD
END:VTIMEZONE
BEGIN:VEVENT
UID:3646443:Event:78581
DTSTAMP:20260419T034648Z
SUMMARY:Gardening in Changing Weather Patterns - Ornamentals
DESCRIPTION:Facilitated by Grey County Master Gardeners\nPreregistrati
 on required, $15 at the door \ncall or email info@greyagservices.ca\n
 \nFor more information visit https://ontag.farms.com/events/gardening-
 in-changing-weather-patterns-ornamentals
DTSTART;TZID=Pacific/Midway:20200326T190000
DTEND;TZID=Pacific/Midway:20200326T213000
CATEGORIES:agricultural, education, course
LOCATION:Grey Ag Services, Lower level of Grey Gables, rear entrance
WEBSITE:http://www.greyagservices.ca
URL:http://www.greyagservices.ca
CONTACT:5199863756
ORGANIZER:Grey Agricultutural Services
ATTACH;FMTTYPE="image/jpeg":https://storage.ning.com/topology/rest/1.0
 /file/get/3831373652?profile=original
ATTENDEE;ROLE=REQ-PARTICIPANT;PARTSTAT=ACCEPTED;RSVP=TRUE;CN="Grey Bru
 ce Farmers' Week":https://ontag.farms.com/profile/GreyBruceFarmersWeek
END:VEVENT
END:VCALENDAR
