BEGIN:VCALENDAR
PRODID:NingEventWidget-v1
VERSION:2.0
METHOD:PUBLISH
BEGIN:VTIMEZONE
TZID:Pacific/Midway
X-LIC-LOCATION:Pacific/Midway
BEGIN:STANDARD
TZOFFSETFROM:-1100
TZOFFSETTO:-1100
TZNAME:SST
DTSTART:19700101T000000
END:STANDARD
END:VTIMEZONE
BEGIN:VEVENT
UID:3646443:Event:75662
DTSTAMP:20260422T074947Z
SUMMARY:Get Perspective on the 2019 Hog Market
DESCRIPTION:Join for a day of insights and analysis and learn what’s
  ahead for the hog industry in 2019.  Topics includeTopics include\r\n
 \r\nEconomic update for the hog sector\r\nDeveloping marketing plans a
 nd hedge strategies\r\nConsiderations for agricultural building constr
 uction\r\n\r\nTime: 9:30 a.m. – 3 p.m. (lunch provided)  Speakers  C
 raig Klemmer Craig joined FCC in 2009 as an Agricultural Economist, sp
 ecializing in monitoring and analyzing the macroeconomic environment, 
 modelling industry health, and providing industry risk analysis. Prior
  to FCC, he worked in the livestock branch of the Saskatchewan Ministr
 y of Agriculture. Craig holds a Master of Agricultural Economics degre
 e from the University of Saskatchewan.  Bert Caputo For over 15-years 
 Bert has been working with agricultural producers developing marketing
  plans and executing hedging strategies using futures and options. He 
 works closely with our hog producer clients, sharing ideas and informa
 tion allowing them to make better informed marketing decisions. Bert h
 as an Honours Bachelor of Business Administration degree from Wilfrid 
 Laurier University in Waterloo. He is also a Chartered Financial Analy
 st (CFA).  Mark Weber Mark is from Mount Forest and is the owner of Ri
 verside Construction. Started in 2009, his company’s primary focus i
 s agriculture building and have recently built five new hog barns for 
 producers in the Black Creek Hog program.  Jim Thalen Jim works for Co
 untyline Equipment and Swine Equipment Consultant and Sales. He works 
 with clients who are renovating or building to ensure they are making 
 the right choices when it comes to technologies in their barn.  \n\nFo
 r more information visit https://ontag.farms.com/events/get-perspectiv
 e-on-the-2019-hog-market
DTSTART;TZID=Pacific/Midway:20190402T093000
DTEND;TZID=Pacific/Midway:20190402T150000
CATEGORIES:seminar
LOCATION:Brodhagen Community Centre
WEBSITE:https://www.eventbrite.ca/e/get-perspective-on-the-2019-hog-ma
 rket-registration-58433048822?utm_campaign=5e2f05911f-EMAIL_CAMPAIGN_2
 019_03_14_07_49&amp;amp;utm_medium=email&amp;amp;utm_source=Developmen
 t+English+%28do+not+delete%29&amp;amp;utm_term=0_5968571e2d-5e2f05911f
 -
URL:https://www.eventbrite.ca/e/get-perspective-on-the-2019-hog-market
 -registration-58433048822?utm_campaign=5e2f05911f-EMAIL_CAMPAIGN_2019_
 03_14_07_49&amp;amp;utm_medium=email&amp;amp;utm_source=Development+En
 glish+%28do+not+delete%29&amp;amp;utm_term=0_5968571e2d-5e2f05911f-
CONTACT:
ORGANIZER:Farm Credit Canada
ATTACH;FMTTYPE="image/jpeg":https://storage.ning.com/topology/rest/1.0
 /file/get/1651695039?profile=original
ATTENDEE;ROLE=REQ-PARTICIPANT;PARTSTAT=ACCEPTED;RSVP=TRUE;CN="OntAG Ad
 min":https://ontag.farms.com/profile/OntAGAdmin
END:VEVENT
END:VCALENDAR
