BEGIN:VCALENDAR
PRODID:NingEventWidget-v1
VERSION:2.0
METHOD:PUBLISH
BEGIN:VTIMEZONE
TZID:Pacific/Midway
X-LIC-LOCATION:Pacific/Midway
BEGIN:STANDARD
TZOFFSETFROM:-1100
TZOFFSETTO:-1100
TZNAME:SST
DTSTART:19700101T000000
END:STANDARD
END:VTIMEZONE
BEGIN:VEVENT
UID:3646443:Event:13565
DTSTAMP:20260420T184403Z
SUMMARY:Give and Go Shinny Hockey Charity Challenge for Farm Care Foun
 dation
DESCRIPTION:\n\nFor more information visit https://ontag.farms.com/eve
 nts/give-and-go-shinny-hockey
DTSTART;TZID=Pacific/Midway:20110428T000000
DTEND;TZID=Pacific/Midway:20110428T235900
CATEGORIES:hocley, shinny, fundraiser
LOCATION:Guelph
WEBSITE:http://www.farmcarefoundation.ca/hockey/
URL:http://www.farmcarefoundation.ca/hockey/
CONTACT:
ORGANIZER:OFAC.AgCare
ATTACH;FMTTYPE="image/jpeg":http://storage.ning.com/topology/rest/1.0/
 file/get/1091508134?profile=original
ATTENDEE;ROLE=REQ-PARTICIPANT;PARTSTAT=ACCEPTED;RSVP=TRUE;CN="OntAG Ad
 min":https://ontag.farms.com/profile/OntAGAdmin
END:VEVENT
END:VCALENDAR
