BEGIN:VCALENDAR
PRODID:NingEventWidget-v1
VERSION:2.0
METHOD:PUBLISH
BEGIN:VTIMEZONE
TZID:Pacific/Midway
X-LIC-LOCATION:Pacific/Midway
BEGIN:STANDARD
TZOFFSETFROM:-1100
TZOFFSETTO:-1100
TZNAME:SST
DTSTART:19700101T000000
END:STANDARD
END:VTIMEZONE
BEGIN:VEVENT
UID:3646443:Event:21369
DTSTAMP:20260421T141053Z
SUMMARY:Glencoe Fair - Sept 23 - 25
DESCRIPTION:Come out to Glencoe and celebrate the 135th Agricultural F
 air.\nThere is lots to see and do!\nIncluding: Midway rides, Saturday
  morning parade - Wild West Theme, Livestock shows and Demos.\nHeavy H
 orses and the Ontario Clydesdale Show, Beef Cattle, Sheep, Swine as we
 ll as 4-H and Inter-county Shows.\n\nFor more information visit https:
 //ontag.farms.com/events/glencoe-fair-sept-23-25
DTSTART;TZID=Pacific/Midway:20110923T000000
DTEND;TZID=Pacific/Midway:20110925T235900
CATEGORIES:county, fair
LOCATION:Glencoe Ontario
WEBSITE:http://maps.google.ca/maps?q=268+Currie+Street,+Glencoe,+Ontar
 io&daddr=268+Currie+St,+Glencoe,+ON+N0L+1M0&hl=en&ll=42.749344,-81.715
 708&spn=0.025243,0.055575&sll=49.891235,-97.15369&sspn=41.631643,79.01
 3672&geocode=%3BCZ3bk-rs1K48FYpNjAIdDB4h-ylL7Y14DaUviDGjrYau04WGcg&z=1
 5
URL:http://maps.google.ca/maps?q=268+Currie+Street,+Glencoe,+Ontario&d
 addr=268+Currie+St,+Glencoe,+ON+N0L+1M0&hl=en&ll=42.749344,-81.715708&
 spn=0.025243,0.055575&sll=49.891235,-97.15369&sspn=41.631643,79.013672
 &geocode=%3BCZ3bk-rs1K48FYpNjAIdDB4h-ylL7Y14DaUviDGjrYau04WGcg&z=15
CONTACT:519.287.2836
ORGANIZER:Glencoe Agricultural Society
ATTACH;FMTTYPE="image/jpeg":http://storage.ning.com/topology/rest/1.0/
 file/get/1091511794?profile=original
ATTENDEE;ROLE=REQ-PARTICIPANT;PARTSTAT=ACCEPTED;RSVP=TRUE;CN="Mackenna
  Roth":https://ontag.farms.com/profile/MackennaRoth
END:VEVENT
END:VCALENDAR
