BEGIN:VCALENDAR
PRODID:NingEventWidget-v1
VERSION:2.0
METHOD:PUBLISH
BEGIN:VTIMEZONE
TZID:Pacific/Midway
X-LIC-LOCATION:Pacific/Midway
BEGIN:STANDARD
TZOFFSETFROM:-1100
TZOFFSETTO:-1100
TZNAME:SST
DTSTART:19700101T000000
END:STANDARD
END:VTIMEZONE
BEGIN:VEVENT
UID:3646443:Event:2099
DTSTAMP:20260422T054652Z
SUMMARY:GMOs - 10th anniversary bash!
DESCRIPTION:Kickstart the holidays with Ontario agriculture's favourit
 e band, the GMOs!\n\nJoin Owen Roberts, Rob Hannam, Len Kahn, Doug Lar
 son, and Rob McLean for a night of rock n' revelry!\n\nwww.gmomusic.co
 m\n\nFor more information visit https://ontag.farms.com/events/gmos-10
 th-anniversary-bash
DTSTART;TZID=Pacific/Midway:20091114T200000
DTEND;TZID=Pacific/Midway:20091115T010000
CATEGORIES:live, "music!"
LOCATION:Grad Lounge, U of G 4th floor University Centre
WEBSITE:
URL:
CONTACT:
ORGANIZER;CN="Lisa McLean":https://ontag.farms.com/profile/LisaMcLean
ATTACH;FMTTYPE="image/jpeg":
ATTENDEE;ROLE=REQ-PARTICIPANT;PARTSTAT=ACCEPTED;RSVP=TRUE;CN="Kathryn 
 Roberts":https://ontag.farms.com/profile/KathrynRoberts
ATTENDEE;ROLE=REQ-PARTICIPANT;PARTSTAT=ACCEPTED;RSVP=TRUE;CN="Owen Rob
 erts":https://ontag.farms.com/profile/OwenRoberts
ATTENDEE;ROLE=REQ-PARTICIPANT;PARTSTAT=ACCEPTED;RSVP=TRUE;CN="Lisa McL
 ean":https://ontag.farms.com/profile/LisaMcLean
ATTENDEE;ROLE=REQ-PARTICIPANT;PARTSTAT=TENTATIVE;RSVP=TRUE;CN="John Be
 ardsley":https://ontag.farms.com/profile/JohnBeardsley
ATTENDEE;ROLE=REQ-PARTICIPANT;PARTSTAT=TENTATIVE;RSVP=TRUE;CN="Michele
  Poisson":https://ontag.farms.com/profile/MichelePoisson
END:VEVENT
END:VCALENDAR
