BEGIN:VCALENDAR
PRODID:NingEventWidget-v1
VERSION:2.0
METHOD:PUBLISH
BEGIN:VTIMEZONE
TZID:Pacific/Midway
X-LIC-LOCATION:Pacific/Midway
BEGIN:STANDARD
TZOFFSETFROM:-1100
TZOFFSETTO:-1100
TZNAME:SST
DTSTART:19700101T000000
END:STANDARD
END:VTIMEZONE
BEGIN:VEVENT
UID:3646443:Event:1716
DTSTAMP:20260421T205312Z
SUMMARY:GOVERNMENT OF CANADA INVESTS IN INTERNATIONAL PORK MARKET DEVE
 LOPMENT
DESCRIPTION:GOVERNMENT OF CANADA INVESTS IN INTERNATIONAL PORK MARKET 
 DEVELOPMENT\n\nOTTAWA, Ontario, October 15, 2009 - Parliamentary Secre
 tary Pierre Lemieux and Member of Parliament Bev Shipley (Lambton-Kent
 -Middlesex), on behalf of Agriculture Minister Gerry Ritz, will be in 
 Strathroy, Ontario, on Friday, October 16, to make an announcement und
 er the AgriMarketing program.\n\nFollowing the announcement, Parliamen
 tary Secretary Lemieux and MP Shipley will be available to speak to me
 dia.\n\nEVENT:\nAnnouncement and media availability\n\nDATE:\nFriday, 
 October 16\n\nTIME:\n12:00 p.m. (local time)\n\nLOCATION:\nHendrix Far
 m\n2900 Cuddy Drive\nStrathroy, Ontario\n\n\nFor more information:\n\n
 Media Relations\nAgriculture and Agri-Food Canada\nOttawa, Ontario\n61
 3-773-7972\n1-866-345-7972\n\nMargaret Boyd\nRegional Communications A
 dvisor\nAAFC Ontario\nOffice: 519-837-5842\nCell: 519-831-3550\n\nFor 
 more information visit https://ontag.farms.com/events/government-of-ca
 nada-invests
DTSTART;TZID=Pacific/Midway:20091015T120000
DTEND;TZID=Pacific/Midway:20091015T150000
CATEGORIES:announcement, and, media, availability
LOCATION:Hendrix Farm
WEBSITE:
URL:
CONTACT:Office: 519-837-5842
ORGANIZER:Agriculture and Agri-Food Canada Margaret Boyd
ATTACH;FMTTYPE="image/jpeg":
ATTENDEE;ROLE=REQ-PARTICIPANT;PARTSTAT=ACCEPTED;RSVP=TRUE;CN=AgOntario
 :https://ontag.farms.com/profile/AgOntario
ATTENDEE;ROLE=REQ-PARTICIPANT;PARTSTAT=TENTATIVE;RSVP=TRUE;CN="rein mi
 nnema":https://ontag.farms.com/profile/reinminnema
END:VEVENT
END:VCALENDAR
