BEGIN:VCALENDAR
PRODID:NingEventWidget-v1
VERSION:2.0
METHOD:PUBLISH
BEGIN:VTIMEZONE
TZID:Pacific/Midway
X-LIC-LOCATION:Pacific/Midway
BEGIN:STANDARD
TZOFFSETFROM:-1100
TZOFFSETTO:-1100
TZNAME:SST
DTSTART:19700101T000000
END:STANDARD
END:VTIMEZONE
BEGIN:VEVENT
UID:3646443:Event:30952
DTSTAMP:20260422T090559Z
SUMMARY:Grain Drying and Storage Workshop 2012
DESCRIPTION:March 22, 2012, 9:00 a.m. – 4:00 p.m., Civic Centre, Ro
 om E, 360 Fairview Avenue, West, Essex\n \nGrain drying and storage w
 orkshops are again being offered this year to serve farmers’ needs. 
 These workshops are for you; if you want a better understanding of gra
 in drying and storage principles, if you are planning a new system, if
  you are expanding your system, or are considering modifications to yo
 ur grain handling system. Come and get your questions answered.\nFree 
 discussion is encouraged throughout the workshops which results in goo
 d exchange of information among participants. The topics covered in th
 e workshops will include the following:\nHow Grain Dries, Types of 
 Drying Systems,  Dryeration/Cooleration,  Fan Sizing & Selection
 ,  Aeration to Keep Grain in Condition,  Locating Drying & Stora
 ge Systems,  Traffic Flow Considerations,  Reducing Drying Energy.
 \n \nInstructor:  Helmut Spieser,Engineer,OMAFRA\nSpaces are limited
 , so register early $55.00 (lunch included).  To register call Ag Bus
 iness Centre, University of Guelph, Ridgetown Campus at 1-866-222-9682
  or 519-674-1500 ext 63592.\n\nFor more information visit https://onta
 g.farms.com/events/grain-drying-and-storage-workshop-2012-1
DTSTART;TZID=Pacific/Midway:20120322T090000
DTEND;TZID=Pacific/Midway:20120322T160000
CATEGORIES:workshop
LOCATION:Civic Centre, Room E, 360 Fairview Avenue, West, Essex
WEBSITE:
URL:
CONTACT:1-866-222-9682 or 519-674-1500 ext 63592
ORGANIZER:
ATTACH;FMTTYPE="image/jpeg":
ATTENDEE;ROLE=REQ-PARTICIPANT;PARTSTAT=ACCEPTED;RSVP=TRUE;CN="Janet Ca
 mpbell":https://ontag.farms.com/profile/JanetCampbell
END:VEVENT
END:VCALENDAR
