BEGIN:VCALENDAR
PRODID:NingEventWidget-v1
VERSION:2.0
METHOD:PUBLISH
BEGIN:VTIMEZONE
TZID:Pacific/Midway
X-LIC-LOCATION:Pacific/Midway
BEGIN:STANDARD
TZOFFSETFROM:-1100
TZOFFSETTO:-1100
TZNAME:SST
DTSTART:19700101T000000
END:STANDARD
END:VTIMEZONE
BEGIN:VEVENT
UID:3646443:Event:31269
DTSTAMP:20260419T154052Z
SUMMARY:Grain Drying and Storage Workshop 2012
DESCRIPTION:March 29, 2012, Elmvale Legion, 7 John Street\n \nGrain d
 rying and storage workshops are again being offered this year to serve
  farmers’ needs. These workshops are for you; if you want a better u
 nderstanding of grain drying and storage principles, if you are planni
 ng a new system, if you are expanding your system, or are considering 
 modifications to your grain handling system. Come and get your questio
 ns answered.\nFree discussion is encouraged throughout the workshops w
 hich results in good exchange of information among participants. The t
 opics covered in the workshops will include the following:\nHow Grain 
 Dries, Types of Drying Systems,  Dryeration/Cooleration,  Fan
  Sizing & Selection,  Aeration to Keep Grain in Condition,  Loca
 ting Drying & Storage Systems,  Traffic Flow Considerations,  Redu
 cing Drying Energy.\n Instructor:  Helmut Spieser, Engineer, OMAFRA\
 nSpaces are limited, so register early $55.00 (lunch included).  To r
 egister call Ag Business Centre, University of Guelph, Ridgetown Campu
 s at 1-866-222-9682 or 519-674-1500 ext 63592.\n\nFor more information
  visit https://ontag.farms.com/events/grain-drying-and-storage-worksho
 p-2012-3
DTSTART;TZID=Pacific/Midway:20120329T090000
DTEND;TZID=Pacific/Midway:20120329T160000
CATEGORIES:workshop
LOCATION:Elmvale Legion, 7 John Street
WEBSITE:
URL:
CONTACT:1-866-222-9682 or 519-674-1500 ext 63592
ORGANIZER:
ATTACH;FMTTYPE="image/jpeg":
ATTENDEE;ROLE=REQ-PARTICIPANT;PARTSTAT=ACCEPTED;RSVP=TRUE;CN="Janet Ca
 mpbell":https://ontag.farms.com/profile/JanetCampbell
END:VEVENT
END:VCALENDAR
