BEGIN:VCALENDAR
PRODID:NingEventWidget-v1
VERSION:2.0
METHOD:PUBLISH
BEGIN:VTIMEZONE
TZID:Pacific/Midway
X-LIC-LOCATION:Pacific/Midway
BEGIN:STANDARD
TZOFFSETFROM:-1100
TZOFFSETTO:-1100
TZNAME:SST
DTSTART:19700101T000000
END:STANDARD
END:VTIMEZONE
BEGIN:VEVENT
UID:3646443:Event:65367
DTSTAMP:20260420T071003Z
SUMMARY:Grain Farmers of Ontario March Classic Event
DESCRIPTION:Presented by Grain Farmers of Ontario.\nThe March Classic 
 is the largest grain-focused conference in Eastern Canada drawing upwa
 rds of 700 attendees from farms across Ontario, government, and indust
 ry.\nConference attendees will receive presentations from four world-c
 lass speakers, as well as updates from Grain Farmers of Ontario. Throu
 ghout the day, the exhibit hall hosts over 60 exhibits, including larg
 e machinery, as well as special benefits like meet-and-greets with cel
 ebrities. Those who stay for the evening banquet will enjoy continued 
 conversations while dining and being entertained by a top-notch perfor
 mer.\nThe 2016 event will continue to build on the success of past con
 ferences centred around the theme of 'Cultivating Consumer Relationshi
 ps' with speakers focusing on demographic trends, business management,
  and public perception. Additional details about the speaker line-up w
 ill be released in the coming months.\n\nFor more information visit ht
 tps://ontag.farms.com/events/grain-farmers-of-ontario-march-classic-ev
 ent
DTSTART;TZID=Pacific/Midway:20160322T000000
DTEND;TZID=Pacific/Midway:20160322T235900
CATEGORIES:conference, and, tradeshow
LOCATION:London Convention Centre
WEBSITE:http://www.gfo.ca
URL:http://www.gfo.ca
CONTACT:
ORGANIZER;CN="OntAG Admin":https://ontag.farms.com/profile/OntAGAdmin
ATTACH;FMTTYPE="image/jpeg":
ATTENDEE;ROLE=REQ-PARTICIPANT;PARTSTAT=ACCEPTED;RSVP=TRUE;CN="OntAG Ad
 min":https://ontag.farms.com/profile/OntAGAdmin
END:VEVENT
END:VCALENDAR
