BEGIN:VCALENDAR
PRODID:NingEventWidget-v1
VERSION:2.0
METHOD:PUBLISH
BEGIN:VTIMEZONE
TZID:Pacific/Midway
X-LIC-LOCATION:Pacific/Midway
BEGIN:STANDARD
TZOFFSETFROM:-1100
TZOFFSETTO:-1100
TZNAME:SST
DTSTART:19700101T000000
END:STANDARD
END:VTIMEZONE
BEGIN:VEVENT
UID:3646443:Event:73969
DTSTAMP:20260422T002314Z
SUMMARY:Grazing your Cover Crops Field Day
DESCRIPTION:These field days will give crop and beef farmers the oppor
 tunity to see cover crops put to use as pasture for beef cattle. Cover
  crops have important environmental and economic value, and these work
 shops will include farmers and speakers who can share their knowledge 
 on the tools and resources available to help integrate cattle into cov
 er cropping systems as an additional business opportunity on farms.  â
 €¢Cover Crops for Cattle â€¢ Fencing Models â€¢ Networking Opportuniti
 es â€¢ Cover Crop Walk\r\n\r\nThere are no registration fees for these
  events, but please register early to secure a spot by contacting theA
 gricultural Information Contact Centre by phone 1.877.424.1300 or by e
 mail at ag.info.omafra@ontario.ca.A light lunch will be provided at ea
 ch field day\n\nFor more information visit https://ontag.farms.com/eve
 nts/grazing-your-cover-crops-field-day
DTSTART;TZID=Pacific/Midway:20181110T090000
DTEND;TZID=Pacific/Midway:20181110T123000
CATEGORIES:crops, field, day
LOCATION:Chatham
WEBSITE:http://www.ontariobeef.com/communications/news/register-for-fi
 eld-days--grazing-your-cover-crops!
URL:http://www.ontariobeef.com/communications/news/register-for-field-
 days--grazing-your-cover-crops!
CONTACT:1.877.424.1300
ORGANIZER:Beef Farmers of Ontario
ATTACH;FMTTYPE="image/jpeg":http://storage.ning.com/topology/rest/1.0/
 file/get/1091552134?profile=original
ATTENDEE;ROLE=REQ-PARTICIPANT;PARTSTAT=ACCEPTED;RSVP=TRUE;CN="OntAG Ad
 min":https://ontag.farms.com/profile/OntAGAdmin
END:VEVENT
END:VCALENDAR
