BEGIN:VCALENDAR
PRODID:NingEventWidget-v1
VERSION:2.0
METHOD:PUBLISH
BEGIN:VTIMEZONE
TZID:Pacific/Midway
X-LIC-LOCATION:Pacific/Midway
BEGIN:STANDARD
TZOFFSETFROM:-1100
TZOFFSETTO:-1100
TZNAME:SST
DTSTART:19700101T000000
END:STANDARD
END:VTIMEZONE
BEGIN:VEVENT
UID:3646443:Event:109987
DTSTAMP:20260420T070529Z
SUMMARY:Great ON Yield Tour – 7th Annual
DESCRIPTION:Join us for the Great ON Yield Tour organized by Farms.com
  Risk Management with fellow hosts Alpine, Derks Elevator, Maizex, and
  Farms.com.  The 2022 planting season is entering into unchartered te
 rritory with so many unknowns. The Yield Tour will look at the challen
 ges of this growing season ahead with a look to predicting the yields 
 across Ontario, so that farmers can make informed commodity decisions.
  \r\n \r\nJoin us at an event near you:\r\nAugust 25th at Derks Ele
 vator in Chesterville, ON\r\nSeptember 1st at Canada’s Outdoor Farm
  Show in Woodstock, ON\r\n \r\nYou must pre-register for this event. 
 To find out more or to register visit:  \r\nhttps://riskmanagement.fa
 rms.com/events/ontario-yield-tour-2022\n\nFor more information visit h
 ttps://ontag.farms.com/events/great-on-yield-tour-7th-annual
DTSTART;TZID=Pacific/Midway:20220825T000000
DTEND;TZID=Pacific/Midway:20220825T235900
CATEGORIES:yield, tour
LOCATION:Derks Elevator
WEBSITE:https://riskmanagement.farms.com/events/ontario-yield-tour-202
 2
URL:https://riskmanagement.farms.com/events/ontario-yield-tour-2022
CONTACT:
ORGANIZER:Farms.com Risk Management
ATTACH;FMTTYPE="image/jpeg":
ATTENDEE;ROLE=REQ-PARTICIPANT;PARTSTAT=ACCEPTED;RSVP=TRUE;CN="OntAG Ad
 min":https://ontag.farms.com/profile/OntAGAdmin
END:VEVENT
END:VCALENDAR
