BEGIN:VCALENDAR
PRODID:NingEventWidget-v1
VERSION:2.0
METHOD:PUBLISH
BEGIN:VTIMEZONE
TZID:Pacific/Midway
X-LIC-LOCATION:Pacific/Midway
BEGIN:STANDARD
TZOFFSETFROM:-1100
TZOFFSETTO:-1100
TZNAME:SST
DTSTART:19700101T000000
END:STANDARD
END:VTIMEZONE
BEGIN:VEVENT
UID:3646443:Event:35656
DTSTAMP:20260421T021016Z
SUMMARY:Grenville SCIA Annual Meeting
DESCRIPTION:Contact: Bryan or Harry\n\nFor more information visit http
 s://ontag.farms.com/events/grenville-scia-annual-meeting
DTSTART;TZID=Pacific/Midway:20121211T000000
DTEND;TZID=Pacific/Midway:20121211T235900
CATEGORIES:meeting
LOCATION:Masonic Hall
WEBSITE:
URL:
CONTACT:613-223-9021
ORGANIZER;CN="OntAG Admin":https://ontag.farms.com/profile/OntAGAdmin
ATTACH;FMTTYPE="image/jpeg":
ATTENDEE;ROLE=REQ-PARTICIPANT;PARTSTAT=ACCEPTED;RSVP=TRUE;CN="OntAG Ad
 min":https://ontag.farms.com/profile/OntAGAdmin
END:VEVENT
END:VCALENDAR
