BEGIN:VCALENDAR
PRODID:NingEventWidget-v1
VERSION:2.0
METHOD:PUBLISH
BEGIN:VTIMEZONE
TZID:Pacific/Midway
X-LIC-LOCATION:Pacific/Midway
BEGIN:STANDARD
TZOFFSETFROM:-1100
TZOFFSETTO:-1100
TZNAME:SST
DTSTART:19700101T000000
END:STANDARD
END:VTIMEZONE
BEGIN:VEVENT
UID:3646443:Event:63063
DTSTAMP:20260424T124337Z
SUMMARY:Grey Bruce Farmer's Week 2016
DESCRIPTION:Grey Bruce Farmers’ Week (GBFW) 2016, celebrating its 50
 th year, will run from Wednesday, January 6th to Tuesday, January 12th
 , starting with Beef Day, and ending on Crops Day.  It is a 7 day Agr
 icultural Conference packed with a most impressive and informative lin
 e-up of speakers!   The coordinators for this event, Grey County Ag 
 Services, in conjunction with agricultural commodity leaders from Grey
  and Bruce Counties, have attempted to feature at least one high profi
 le speaker for each day, targeting the issues and challenges facing th
 e farming community today.\n\nFor more information visit https://ontag
 .farms.com/events/grey-bruce-farmer-s-week-2016
DTSTART;TZID=Pacific/Midway:20160106T090000
DTEND;TZID=Pacific/Midway:20160112T160000
CATEGORIES:agricultural, trade, show
LOCATION:Elmwood Community Centre
WEBSITE:https://www.google.ca/maps/place/Elmwood+Community+Centre/@44.
 2525667,-81.0092062,17z/data=!3m1!4b1!4m2!3m1!1s0x88299121f4aa5d8f:0xd
 d8c8a54d8f04bb7
URL:https://www.google.ca/maps/place/Elmwood+Community+Centre/@44.2525
 667,-81.0092062,17z/data=!3m1!4b1!4m2!3m1!1s0x88299121f4aa5d8f:0xdd8c8
 a54d8f04bb7
CONTACT:519-986-3756
ORGANIZER;CN="Grey Bruce Farmers' Week":https://ontag.farms.com/profil
 e/GreyBruceFarmersWeek
ATTACH;FMTTYPE="image/jpeg":http://storage.ning.com/topology/rest/1.0/
 file/get/1091541823?profile=original
ATTENDEE;ROLE=REQ-PARTICIPANT;PARTSTAT=ACCEPTED;RSVP=TRUE;CN="Grey Bru
 ce Farmers' Week":https://ontag.farms.com/profile/GreyBruceFarmersWeek
END:VEVENT
END:VCALENDAR
