BEGIN:VCALENDAR
PRODID:NingEventWidget-v1
VERSION:2.0
METHOD:PUBLISH
BEGIN:VTIMEZONE
TZID:Pacific/Midway
X-LIC-LOCATION:Pacific/Midway
BEGIN:STANDARD
TZOFFSETFROM:-1100
TZOFFSETTO:-1100
TZNAME:SST
DTSTART:19700101T000000
END:STANDARD
END:VTIMEZONE
BEGIN:VEVENT
UID:3646443:Event:73607
DTSTAMP:20260422T073852Z
SUMMARY:Grey Bruce Farmers' Week 2019
DESCRIPTION:GBFW is a 7 day agricultural conference featuring a progra
 m dedicated to each of the major commodity groups in Grey and Bruce co
 unties and beyond.\nThere are usually approximately 55 speakers from a
 cross the province, other provinces and the U.S.  Each day includes a
  producer panel where producers can learn from their peers.\n*Please N
 ote GBFW19 will have a day order change*\nDairy Day, Thursday Jan 3, 2
 019\nGoat Day Friday Jan 4, 2019\nSheep Day Saturday Jan 5, 2019 \nHo
 rse Day Sunday Jan 6, 2019\nBeef Day Monday Jan 7, 2019\nCrops Day Tue
 sday Jan 8, 2019\nEcological Day Wednesday Jan 9, 2019\n\nFor more inf
 ormation visit https://ontag.farms.com/events/grey-bruce-farmers-week-
 2019
DTSTART;TZID=Pacific/Midway:20190103T000000
DTEND;TZID=Pacific/Midway:20190109T235900
CATEGORIES:agricultural, event
LOCATION:Elmwood Community Centre
WEBSITE:https://goo.gl/maps/Sp789yj5HUE2
URL:https://goo.gl/maps/Sp789yj5HUE2
CONTACT:519-986-3756
ORGANIZER:Grey Ag Services
ATTACH;FMTTYPE="image/jpeg":http://storage.ning.com/topology/rest/1.0/
 file/get/1091551257?profile=original
ATTENDEE;ROLE=REQ-PARTICIPANT;PARTSTAT=ACCEPTED;RSVP=TRUE;CN="Grey Bru
 ce Farmers' Week":https://ontag.farms.com/profile/GreyBruceFarmersWeek
END:VEVENT
END:VCALENDAR
