BEGIN:VCALENDAR
PRODID:NingEventWidget-v1
VERSION:2.0
METHOD:PUBLISH
BEGIN:VTIMEZONE
TZID:Pacific/Midway
X-LIC-LOCATION:Pacific/Midway
BEGIN:STANDARD
TZOFFSETFROM:-1100
TZOFFSETTO:-1100
TZNAME:SST
DTSTART:19700101T000000
END:STANDARD
END:VTIMEZONE
BEGIN:VEVENT
UID:3646443:Event:115197
DTSTAMP:20260423T053145Z
SUMMARY:Grey Bruce Farmers’ Week 2026
DESCRIPTION:Grey Bruce Farmers' Week is an agricultural conference hel
 d annually in early January at the Elmwood Community Centre.\r\nThe 20
 26 event will be Grey Bruce Farmers' Week's 60th anniversary!\r\nEach 
 day of the conference focuses on a different commodity and features gu
 est speakers delivering presentations, a tradeshow of agribusiness and
  a hot roast beef lunch. Information on the coming year's program will
  be updated to this site as it is available. Follow us on Facebook, In
 stagram and X for updates as they come.\r\nAnnouncing the dates for GB
 FW 2026:Beef Day - Wednesday Jan 7th 2026\r\nDairy Day - Thursday Jan 
 8th 2026\r\nGoat Day - Friday Jan 9th 2026\r\nSheep Day - Saturday Jan
  10th 2026\r\nHorse Day - Sunday Jan 11th 2026\r\nCrops Day - Monday J
 an 12th 2026\n\nFor more information visit https://ontag.farms.com/eve
 nts/grey-bruce-farmers-week-2026
DTSTART;TZID=Pacific/Midway:20260107T000000
DTEND;TZID=Pacific/Midway:20260112T235900
CATEGORIES:"farmers’", week
LOCATION:Elmwood Community Centre
WEBSITE:https://www.greybrucefarmersweek.ca/
URL:https://www.greybrucefarmersweek.ca/
CONTACT:519-986-3756
ORGANIZER:Grey Bruce Farmer
ATTACH;FMTTYPE="image/jpeg":https://storage.ning.com/topology/rest/1.0
 /file/get/13650229095?profile=original
ATTENDEE;ROLE=REQ-PARTICIPANT;PARTSTAT=ACCEPTED;RSVP=TRUE;CN="OntAG Ad
 min":https://ontag.farms.com/profile/OntAGAdmin
END:VEVENT
END:VCALENDAR
