BEGIN:VCALENDAR
PRODID:NingEventWidget-v1
VERSION:2.0
METHOD:PUBLISH
BEGIN:VTIMEZONE
TZID:Pacific/Midway
X-LIC-LOCATION:Pacific/Midway
BEGIN:STANDARD
TZOFFSETFROM:-1100
TZOFFSETTO:-1100
TZNAME:SST
DTSTART:19700101T000000
END:STANDARD
END:VTIMEZONE
BEGIN:VEVENT
UID:3646443:Event:49731
DTSTAMP:20260422T195132Z
SUMMARY:Grey Bruce Farmers Week Conference and Trade Show
DESCRIPTION:\n\n\nFor more information visit https://ontag.farms.com/e
 vents/grey-bruce-farmers-week-conference-and-trade-show
DTSTART;TZID=Pacific/Midway:20140108T090000
DTEND;TZID=Pacific/Midway:20140114T160000
CATEGORIES:trade, show, and, conference
LOCATION:Elmwood Community Centre
WEBSITE:http://www.greyagservices.ca
URL:http://www.greyagservices.ca
CONTACT:519-986-3756
ORGANIZER:Grey County Agricultural Services
ATTACH;FMTTYPE="image/jpeg":http://storage.ning.com/topology/rest/1.0/
 file/get/1091519614?profile=original
ATTENDEE;ROLE=REQ-PARTICIPANT;PARTSTAT=ACCEPTED;RSVP=TRUE;CN="Joshua M
 ires":https://ontag.farms.com/profile/JoshuaMires
ATTENDEE;ROLE=REQ-PARTICIPANT;PARTSTAT=ACCEPTED;RSVP=TRUE;CN="Yolanda 
 vdWeerd":https://ontag.farms.com/profile/YolandavdWeerd
ATTENDEE;ROLE=REQ-PARTICIPANT;PARTSTAT=ACCEPTED;RSVP=TRUE;CN="Grey Bru
 ce Farmers' Week":https://ontag.farms.com/profile/GreyBruceFarmersWeek
END:VEVENT
END:VCALENDAR
