BEGIN:VCALENDAR
PRODID:NingEventWidget-v1
VERSION:2.0
METHOD:PUBLISH
BEGIN:VTIMEZONE
TZID:Pacific/Midway
X-LIC-LOCATION:Pacific/Midway
BEGIN:STANDARD
TZOFFSETFROM:-1100
TZOFFSETTO:-1100
TZNAME:SST
DTSTART:19700101T000000
END:STANDARD
END:VTIMEZONE
BEGIN:VEVENT
UID:3646443:Event:108185
DTSTAMP:20260422T004702Z
SUMMARY:Grey Bruce Farmers' Week - Ecological Day
DESCRIPTION:Grey Bruce Farmers' Week is in its 56th year of running an
 d will be presented virtually this year - meaning anyone, from anywher
 e can attend! Please spread the word!\nEcological Day will feature top
 ics on carbon offset and capture, aquaculture, seed saving and origina
 tion, no-till strategies for organic vegetables, optimizing yield on o
 rganic farms, and more! Take advantage of the networking sessions duri
 ng the day, and gain industry contacts in the Exhibitor Hall. Can’t 
 watch the presentations live? That’s okay! They will be available fo
 r viewing for 30 days after the event as well. Check out www.gbfw.ca f
 or more details.\n\nFor more information visit https://ontag.farms.com
 /events/grey-bruce-farmers-week-ecological-day
DTSTART;TZID=Pacific/Midway:20220110T180000
DTEND;TZID=Pacific/Midway:20220110T190000
CATEGORIES:conference
LOCATION:Virtual - watch from the comfort of your living room!
WEBSITE:http://www.gbfw.ca
URL:http://www.gbfw.ca
CONTACT:519-986-3756
ORGANIZER;CN="Grey Bruce Farmers' Week":https://ontag.farms.com/profil
 e/GreyBruceFarmersWeek
ATTACH;FMTTYPE="image/jpeg":https://storage.ning.com/topology/rest/1.0
 /file/get/9701632897?profile=original
ATTENDEE;ROLE=REQ-PARTICIPANT;PARTSTAT=ACCEPTED;RSVP=TRUE;CN="Grey Bru
 ce Farmers' Week":https://ontag.farms.com/profile/GreyBruceFarmersWeek
END:VEVENT
END:VCALENDAR
