BEGIN:VCALENDAR
PRODID:NingEventWidget-v1
VERSION:2.0
METHOD:PUBLISH
BEGIN:VTIMEZONE
TZID:Pacific/Midway
X-LIC-LOCATION:Pacific/Midway
BEGIN:STANDARD
TZOFFSETFROM:-1100
TZOFFSETTO:-1100
TZNAME:SST
DTSTART:19700101T000000
END:STANDARD
END:VTIMEZONE
BEGIN:VEVENT
UID:3646443:Event:7646
DTSTAMP:20260422T183036Z
SUMMARY:Grey Bruce Farmers' Week
DESCRIPTION:Grey Bruce Farmers' Week is in its 45th year in 2011.  It
  is a 6 day series of agricultural educational programming for Beef, D
 airy, Goat, Sheep, Ecological, Equine and Crops Producers. \n \n \n
 \nFor more information visit https://ontag.farms.com/events/grey-bruce
 -farmers-week
DTSTART;TZID=Pacific/Midway:20110105T000000
DTEND;TZID=Pacific/Midway:20110110T235900
CATEGORIES:conference
LOCATION:Elmwood Community Centre
WEBSITE:http://www.greyagservices.ca/grey-bruce-farmers-week/event-inf
 ormation.html
URL:http://www.greyagservices.ca/grey-bruce-farmers-week/event-informa
 tion.html
CONTACT:519-986-3756
ORGANIZER;CN="Grey Bruce Farmers' Week":https://ontag.farms.com/profil
 e/GreyBruceFarmersWeek
ATTACH;FMTTYPE="image/jpeg":http://storage.ning.com/topology/rest/1.0/
 file/get/1091510414?profile=original
ATTENDEE;ROLE=REQ-PARTICIPANT;PARTSTAT=ACCEPTED;RSVP=TRUE;CN="Grey Bru
 ce Farmers' Week":https://ontag.farms.com/profile/GreyBruceFarmersWeek
END:VEVENT
END:VCALENDAR
