BEGIN:VCALENDAR
PRODID:NingEventWidget-v1
VERSION:2.0
METHOD:PUBLISH
BEGIN:VTIMEZONE
TZID:Pacific/Midway
X-LIC-LOCATION:Pacific/Midway
BEGIN:STANDARD
TZOFFSETFROM:-1100
TZOFFSETTO:-1100
TZNAME:SST
DTSTART:19700101T000000
END:STANDARD
END:VTIMEZONE
BEGIN:VEVENT
UID:3646443:Event:56009
DTSTAMP:20260422T153005Z
SUMMARY:Group Sow Housing Workshop
DESCRIPTION:This workshop is intended for producers looking at group s
 ow housing now or in the future. It will provide practical information
  on group sow management, sow feeding systems and answer questions abo
 ut renovations and new design.\n\nFor more information visit https://o
 ntag.farms.com/events/group-sow-housing-workshop
DTSTART;TZID=Pacific/Midway:20140902T091500
DTEND;TZID=Pacific/Midway:20140902T160000
CATEGORIES:workshop
LOCATION:Festival Inn
WEBSITE:
URL:
CONTACT:519-273-1150 / 1-800-463-3581
ORGANIZER:Doug Richards, Swine Specialist, OMAFRA
ATTACH;FMTTYPE="image/jpeg":
ATTENDEE;ROLE=REQ-PARTICIPANT;PARTSTAT=ACCEPTED;RSVP=TRUE;CN="Betty Su
 mmerhayes":https://ontag.farms.com/profile/BettySummerhayes
END:VEVENT
END:VCALENDAR
