BEGIN:VCALENDAR
PRODID:NingEventWidget-v1
VERSION:2.0
METHOD:PUBLISH
BEGIN:VTIMEZONE
TZID:Pacific/Midway
X-LIC-LOCATION:Pacific/Midway
BEGIN:STANDARD
TZOFFSETFROM:-1100
TZOFFSETTO:-1100
TZNAME:SST
DTSTART:19700101T000000
END:STANDARD
END:VTIMEZONE
BEGIN:VEVENT
UID:3646443:Event:66255
DTSTAMP:20260419T063516Z
SUMMARY:Grow your Soil-  Build your Productivity
DESCRIPTION:Some of the Soil Management Practices that will be highlig
 hted include:\n\nReduced-tillage\nOrganic Ammendments\nCover Crops\nCr
 op rotation and plant diversity\nLivestock Integration\n\nRegistration
  from 1:30-2pm *Leaving From: Lambton-Kent Memorial Agricultural Centr
 e - 1212 North St., Dresden, Ontario N0L 1M0, Canada -\n\nFor more inf
 ormation visit https://ontag.farms.com/events/grow-your-soil-build-you
 r-productivity
DTSTART;TZID=Pacific/Midway:20160804T140000
DTEND;TZID=Pacific/Midway:20160804T180000
CATEGORIES:workshop
LOCATION:Lambton-Kent Memorial Agricultural Centre
WEBSITE:https://www.eventbrite.ca/e/grow-your-soil-build-your-producti
 vity-a-processing-tomato-field-tour-chatham-kent-on-tickets-2617644645
 6
URL:https://www.eventbrite.ca/e/grow-your-soil-build-your-productivity
 -a-processing-tomato-field-tour-chatham-kent-on-tickets-26176446456
CONTACT:(519)351-6379
ORGANIZER;CN="OntAG Admin":https://ontag.farms.com/profile/OntAGAdmin
ATTACH;FMTTYPE="image/jpeg":
ATTENDEE;ROLE=REQ-PARTICIPANT;PARTSTAT=ACCEPTED;RSVP=TRUE;CN="OntAG Ad
 min":https://ontag.farms.com/profile/OntAGAdmin
END:VEVENT
END:VCALENDAR
