BEGIN:VCALENDAR
PRODID:NingEventWidget-v1
VERSION:2.0
METHOD:PUBLISH
BEGIN:VTIMEZONE
TZID:Pacific/Midway
X-LIC-LOCATION:Pacific/Midway
BEGIN:STANDARD
TZOFFSETFROM:-1100
TZOFFSETTO:-1100
TZNAME:SST
DTSTART:19700101T000000
END:STANDARD
END:VTIMEZONE
BEGIN:VEVENT
UID:3646443:Event:3626
DTSTAMP:20260422T212245Z
SUMMARY:Growing the Margins Conference and Exhibition
DESCRIPTION:The 4th Annual Growing the Margins: Green Energy and Econo
 my for the Farm and Food Sectors Conference and Exhibition will extend
  GTM’s successful track record by further exploring new technologica
 l, operating, policy, regulatory, financial and other challenges and o
 pportunities facing farms and related food and rural industries as the
 y strive to improve their energy efficiency, better utilize byproducts
  - - and ultimately improve their bottom lines.\n\nFor more informatio
 n visit https://ontag.farms.com/events/growing-the-margins-conference
DTSTART;TZID=Pacific/Midway:20100308T000000
DTEND;TZID=Pacific/Midway:20100312T235900
CATEGORIES:conference
LOCATION:London Convention Centre
WEBSITE:http://www.gtmconference.ca/site/index.php/growing-the-margins
URL:http://www.gtmconference.ca/site/index.php/growing-the-margins
CONTACT:416-426-7280
ORGANIZER:Committee
ATTACH;FMTTYPE="image/jpeg":http://storage.ning.com/topology/rest/1.0/
 file/get/1091501049?profile=original
ATTENDEE;ROLE=REQ-PARTICIPANT;PARTSTAT=ACCEPTED;RSVP=TRUE;CN="Richard 
 Hamilton":https://ontag.farms.com/profile/RichardHamilton
END:VEVENT
END:VCALENDAR
