BEGIN:VCALENDAR
PRODID:NingEventWidget-v1
VERSION:2.0
METHOD:PUBLISH
BEGIN:VTIMEZONE
TZID:Pacific/Midway
X-LIC-LOCATION:Pacific/Midway
BEGIN:STANDARD
TZOFFSETFROM:-1100
TZOFFSETTO:-1100
TZNAME:SST
DTSTART:19700101T000000
END:STANDARD
END:VTIMEZONE
BEGIN:VEVENT
UID:3646443:Event:57251
DTSTAMP:20260419T193250Z
SUMMARY:Growing Your Farm Profits Workshop - Essex
DESCRIPTION:GYFP Workshop - Essex: Day 1-Oct 1/14 , Day 2-Oct 8/14\n01
  Oct 2014 10:00 AM • Essex Civic Centre, Room C\n\nOther Upcoming Gr
 owing Your Farm Profit Workshops (GYFP):\n\nGrowing Your Farm Profits 
 Workshop - Elgin (Leeds County): Day 1-Oct 1, Day 2-Oct 8, 2014 NOTE D
 ATE CHANGE\n \nGrowing Your Farm Profits Workshop - Fergus (Waterloo 
 County) Day 1-October 7, 2014; Day 2-October 14, 2014\n07 Oct 2014 10:
 00 AM • location to be determined, Fergus, ON\n \nGYFP Workshop - B
 righton (Northumberland County) Day1- Oct.9th, Day2-Oct.16th, 2014\n09
  Oct 2014 10:00 AM • Codrington Community Centre, Brighton, ON\n \n
 GYFP Workshop - Vineland: Day 1-Oct 16, Day 2-Oct 23\n16 Oct 2014 10:0
 0 AM • OMAF office Vineland\n \nGYFP Workshop: Nobleton (York Regio
 n) Day1- Oct.29, Day2-Nov.5,\n29 Oct 2014 10:00 AM • Nobleton Commun
 ity Centre (Seniors Room), Nobleton, ON\n \nGYFP Workshop - Ridgetown
 : Day 1-Nov 5 , Day 2- Nov 12\n05 Nov 2014 10:00 AM • Ridgetown\n \
 nGYFP Workshop -Tweed (Hastings County) Day1-Nov.10, Day2-Nov.17, 2014
 .\n10 Nov 2014 10:00 AM • Lions hall,65 Victoria Street, Tweed, Ont.
 \n \nGYFP Workshop - Simcoe: Day 1-Nov 12 Day 2-Nov 19\n12 Nov 2014 1
 0:00 AM • OMAF Office Simcoe\n\nFor more information visit https://o
 ntag.farms.com/events/growing-your-farm-profits-workshop-essex
DTSTART;TZID=Pacific/Midway:20141001T000000
DTEND;TZID=Pacific/Midway:20141001T235900
CATEGORIES:"growing your farm profits workshop"
LOCATION:Essex
WEBSITE:http://registration.wildapricot.org/
URL:http://registration.wildapricot.org/
CONTACT:
ORGANIZER:Growing Forward 2
ATTACH;FMTTYPE="image/jpeg":http://storage.ning.com/topology/rest/1.0/
 file/get/1091530376?profile=original
ATTENDEE;ROLE=REQ-PARTICIPANT;PARTSTAT=ACCEPTED;RSVP=TRUE;CN="OntAG Ad
 min":https://ontag.farms.com/profile/OntAGAdmin
END:VEVENT
END:VCALENDAR
