BEGIN:VCALENDAR
PRODID:NingEventWidget-v1
VERSION:2.0
METHOD:PUBLISH
BEGIN:VTIMEZONE
TZID:Pacific/Midway
X-LIC-LOCATION:Pacific/Midway
BEGIN:STANDARD
TZOFFSETFROM:-1100
TZOFFSETTO:-1100
TZNAME:SST
DTSTART:19700101T000000
END:STANDARD
END:VTIMEZONE
BEGIN:VEVENT
UID:3646443:Event:57562
DTSTAMP:20260419T014007Z
SUMMARY:Growing Your Farm Profits Workshop -Tweed (Hastings County)
DESCRIPTION:GYFP Workshop -Tweed (Hastings County) Day1-Nov.10, Day2-N
 ov.17, 2014.\n10 Nov 2014 10:00 AM â€¢ Lions hall,65 Victoria Street, 
 Tweed, Ont.\n\nOther Growing Your Farm Profit Workshops (GYFP):\n\nGro
 wing Your Farm Profits Workshop - Elgin (Leeds County): Day 1-Oct 1, D
 ay 2-Oct 8, 2014 NOTE DATE CHANGE\n\nGYFP Workshop - Essex: Day 1-Oct 
 1/14 , Day 2-Oct 8/14\n01 Oct 2014 10:00 AM â€¢ Essex Civic Centre, Ro
 om C\nÂ \nGrowing Your Farm Profits Workshop - Fergus (Waterloo County
 ) Day 1-October 7, 2014; Day 2-October 14, 2014\n07 Oct 2014 10:00 AM 
 â€¢ location to be determined, Fergus, ON\nÂ \nGYFP Workshop - Brighto
 n (Northumberland County) Day1- Oct.9th, Day2-Oct.16th, 2014\n09 Oct 2
 014 10:00 AM â€¢ Codrington Community Centre, Brighton, ON\nÂ \nGYFP W
 orkshop - Vineland: Day 1-Oct 16, Day 2-Oct 23\n16 Oct 2014 10:00 AM â
 €¢ OMAF office Vineland\nÂ \nGYFP Workshop: Nobleton (York Region) Day
 1- Oct.29, Day2-Nov.5,\n29 Oct 2014 10:00 AM â€¢ Nobleton Community Ce
 ntre (Seniors Room), Nobleton, ON\nÂ \nGYFP Workshop - Ridgetown: Day 
 1-Nov 5 , Day 2- Nov 12\n05 Nov 2014 10:00 AM â€¢ Ridgetown\nÂ \nGYFP 
 Workshop - Simcoe: Day 1-Nov 12 Day 2-Nov 19\n12 Nov 2014 10:00 AM â€¢
  OMAF Office Simcoe\n\nFor more information visit https://ontag.farms.
 com/events/growing-your-farm-profits-workshop-tweed-hastings-county
DTSTART;TZID=Pacific/Midway:20141110T000000
DTEND;TZID=Pacific/Midway:20141110T235900
CATEGORIES:"growing your farm profits workshop"
LOCATION:Lions Hall
WEBSITE:http://registration.wildapricot.org/
URL:http://registration.wildapricot.org/
CONTACT:
ORGANIZER:Growing Forward 2
ATTACH;FMTTYPE="image/jpeg":http://storage.ning.com/topology/rest/1.0/
 file/get/1091530376?profile=original
ATTENDEE;ROLE=REQ-PARTICIPANT;PARTSTAT=ACCEPTED;RSVP=TRUE;CN="OntAG Ad
 min":https://ontag.farms.com/profile/OntAGAdmin
END:VEVENT
END:VCALENDAR
