BEGIN:VCALENDAR
PRODID:NingEventWidget-v1
VERSION:2.0
METHOD:PUBLISH
BEGIN:VTIMEZONE
TZID:Pacific/Midway
X-LIC-LOCATION:Pacific/Midway
BEGIN:STANDARD
TZOFFSETFROM:-1100
TZOFFSETTO:-1100
TZNAME:SST
DTSTART:19700101T000000
END:STANDARD
END:VTIMEZONE
BEGIN:VEVENT
UID:3646443:Event:23122
DTSTAMP:20260422T030445Z
SUMMARY:Growing Your Farm Profits Workshops - Ontario - Wellington
DESCRIPTION:The Growing Your Farm Profits (GYFP) workshop is the entry
  point to potential cost-share opportunities available through Growing
  Forward Business Development for Farm Businesses. \nWorkshop DetailsN
 eed to start planning for succession?  Looking at expanding your busi
 ness?  Need a better record-keeping system?  .Give yourself every ch
 ance of reaching your goals by attending the “Growing Your Farm Prof
 its” workshop. This two-day workshop will give you the tools to asse
 ss where you are now and where you could be in the future.  At the w
 orkshop, you will \n\nAssess your business and identify top prioritie
 s.\nInteract with farmers and hear new ideas\nDevelop action plans and
  begin the planning process.\n....and much more\n\nWe invite you and y
 our management team to start the journey towards managing and planning
  your farm business success.  Sign up for this workshop. It will be t
 ime well spent!  \nCLICK HERE TO ACCESS THE WORKSHOPS CALENDAR\n \n
 \nFor more information visit https://ontag.farms.com/events/growing-yo
 ur-farm-profits-workshops-ontario-wellington
DTSTART;TZID=Pacific/Midway:20110916T000000
DTEND;TZID=Pacific/Midway:20110916T235900
CATEGORIES:workshop
LOCATION:Elora OMAFRA office
WEBSITE:http://www.ontariosoilcrop.org/en/bdfbworkshops/default.htm
URL:http://www.ontariosoilcrop.org/en/bdfbworkshops/default.htm
CONTACT:John Benham 519-846-0941
ORGANIZER:OSCIA
ATTACH;FMTTYPE="image/jpeg":http://storage.ning.com/topology/rest/1.0/
 file/get/1091514219?profile=original
ATTENDEE;ROLE=REQ-PARTICIPANT;PARTSTAT=ACCEPTED;RSVP=TRUE;CN="OntAG Ad
 min":https://ontag.farms.com/profile/OntAGAdmin
END:VEVENT
END:VCALENDAR
