BEGIN:VCALENDAR
PRODID:NingEventWidget-v1
VERSION:2.0
METHOD:PUBLISH
BEGIN:VTIMEZONE
TZID:Pacific/Midway
X-LIC-LOCATION:Pacific/Midway
BEGIN:STANDARD
TZOFFSETFROM:-1100
TZOFFSETTO:-1100
TZNAME:SST
DTSTART:19700101T000000
END:STANDARD
END:VTIMEZONE
BEGIN:VEVENT
UID:3646443:Event:39720
DTSTAMP:20260421T061856Z
SUMMARY:Guelph - Growing Forward 2 Information Session
DESCRIPTION:This session will Provide information on the Growing Forwa
 rd 2 program, a comprehensive federal-provincial-territorial framework
  Aimed at Encouraging innovation and market development in Canada's ag
 ri-food and agri-products sector.\nThe session will be hosted by Ontar
 io Soil and Crop Improvement Association and Ontario Ministry of Agric
 ulture and Food / Ministry of Rural Affairs - Rural Programs Branch.\n
 During this briefing, information will be provided about the Growing F
 orward 2, a comprehensive strategic framework, federal-provincial-terr
 itorial, to promote innovation, competitiveness and the development of
  markets for Canadian agri-food sector and agricultural products. \nT
 he briefing is aimed at producers, processing companies, organizations
  and partnerships in Ontario of the environment \nThe session will be
  organized by the Association for soil and crops in Ontario and the Mi
 nistry of Agriculture and Food and the Ontario Ministry of Rural Affai
 rs - Programs Directorate rural communities.\n \n\n\nFor more informa
 tion visit https://ontag.farms.com/events/guelph-growing-forward-2-inf
 ormation-session-the-briefing-on-grow
DTSTART;TZID=Pacific/Midway:20130604T133000
DTEND;TZID=Pacific/Midway:20130604T153000
CATEGORIES:information, session
LOCATION:Holiday Inn
WEBSITE:http://www.registration.wildapricot.org/GF2Information?eventId
 =661873&EventViewMode=EventDetails
URL:http://www.registration.wildapricot.org/GF2Information?eventId=661
 873&EventViewMode=EventDetails
CONTACT:
ORGANIZER:OMAF
ATTACH;FMTTYPE="image/jpeg":http://storage.ning.com/topology/rest/1.0/
 file/get/1091519562?profile=original
ATTENDEE;ROLE=REQ-PARTICIPANT;PARTSTAT=ACCEPTED;RSVP=TRUE;CN="OntAG Ad
 min":https://ontag.farms.com/profile/OntAGAdmin
ATTENDEE;ROLE=REQ-PARTICIPANT;PARTSTAT=ACCEPTED;RSVP=TRUE;CN="NORTH PE
 RTH ANGUS":https://ontag.farms.com/profile/NORTHPERTHANGUS
END:VEVENT
END:VCALENDAR
