BEGIN:VCALENDAR
PRODID:NingEventWidget-v1
VERSION:2.0
METHOD:PUBLISH
BEGIN:VTIMEZONE
TZID:Pacific/Midway
X-LIC-LOCATION:Pacific/Midway
BEGIN:STANDARD
TZOFFSETFROM:-1100
TZOFFSETTO:-1100
TZNAME:SST
DTSTART:19700101T000000
END:STANDARD
END:VTIMEZONE
BEGIN:VEVENT
UID:3646443:Event:7477
DTSTAMP:20260420T105831Z
SUMMARY:Guelph Organic Conference
DESCRIPTION:A grassroots, regional, mid-winter organic learning experi
 ence. Going into its 30th year, this Conference has grown right alongs
 ide the organic movement in Canada which traces its start-up to the la
 te 1970′s.\n\nFor more information visit https://ontag.farms.com/eve
 nts/guelph-organic-conference
DTSTART;TZID=Pacific/Midway:20110127T000000
DTEND;TZID=Pacific/Midway:20110130T235900
CATEGORIES:conference
LOCATION:University of Guelph
WEBSITE:http://www.guelphorganicconf.ca/conference-overview/
URL:http://www.guelphorganicconf.ca/conference-overview/
CONTACT:(519) 824-4120 Extension 56205
ORGANIZER:Guelph Organic Conference
ATTACH;FMTTYPE="image/jpeg":http://storage.ning.com/topology/rest/1.0/
 file/get/1091506222?profile=original
ATTENDEE;ROLE=REQ-PARTICIPANT;PARTSTAT=ACCEPTED;RSVP=TRUE;CN="Richard 
 Hamilton":https://ontag.farms.com/profile/RichardHamilton
ATTENDEE;ROLE=REQ-PARTICIPANT;PARTSTAT=TENTATIVE;RSVP=TRUE;CN="zenaida
  j. baucas":https://ontag.farms.com/profile/zenaidajbaucas
END:VEVENT
END:VCALENDAR
