BEGIN:VCALENDAR
PRODID:NingEventWidget-v1
VERSION:2.0
METHOD:PUBLISH
BEGIN:VTIMEZONE
TZID:Pacific/Midway
X-LIC-LOCATION:Pacific/Midway
BEGIN:STANDARD
TZOFFSETFROM:-1100
TZOFFSETTO:-1100
TZNAME:SST
DTSTART:19700101T000000
END:STANDARD
END:VTIMEZONE
BEGIN:VEVENT
UID:3646443:Event:28273
DTSTAMP:20260423T082040Z
SUMMARY:HALDIMAND - OSCIA - Growing Your Farm Profits Workshops
DESCRIPTION:Durham  - Nov 29th and Dec 6th\nCathy Mous 905-957-3044\
 nhaldimandGYFP@ontariosoilcrop.org\nGrowing Your Farm Profits workshop
 s\nGrowing Your Farm Profits is the place to start planning for your b
 usiness success.\n \nThe two-day workshop will give you the tools nee
 ded to assess your current farm management practices and understand ho
 w proactive planning can influence effective decision making.\n \nOnl
 ine workshop registration for Ontario Farmers now available:\nFor Onta
 rio farmers, to register for a GYFP educational workshop, they can now
  register online:\nVisit www.ontariosoilcrop.org/workshops, locate th
 e appropriate workshop and then register online\nWorkshop dates and lo
 cation are subject to change - Please check the website from the link 
 below: \nWorkshop dates, locations and more information>>\n \n\nFor 
 more information visit https://ontag.farms.com/events/haldimand-oscia-
 growing-your-farm-profits-workshops
DTSTART;TZID=Pacific/Midway:20111129T000000
DTEND;TZID=Pacific/Midway:20111129T235900
CATEGORIES:workshop
LOCATION:Haldimand Agriculture, Cayuga
WEBSITE:http://www.ontariosoilcrop.org/en/bdfbworkshops/default.htm
URL:http://www.ontariosoilcrop.org/en/bdfbworkshops/default.htm
CONTACT:
ORGANIZER:Ontario Soil and Crop Improvement Association
ATTACH;FMTTYPE="image/jpeg":http://storage.ning.com/topology/rest/1.0/
 file/get/1091511593?profile=original
ATTENDEE;ROLE=REQ-PARTICIPANT;PARTSTAT=ACCEPTED;RSVP=TRUE;CN="OntAG Ad
 min":https://ontag.farms.com/profile/OntAGAdmin
END:VEVENT
END:VCALENDAR
