BEGIN:VCALENDAR
PRODID:NingEventWidget-v1
VERSION:2.0
METHOD:PUBLISH
BEGIN:VTIMEZONE
TZID:Pacific/Midway
X-LIC-LOCATION:Pacific/Midway
BEGIN:STANDARD
TZOFFSETFROM:-1100
TZOFFSETTO:-1100
TZNAME:SST
DTSTART:19700101T000000
END:STANDARD
END:VTIMEZONE
BEGIN:VEVENT
UID:3646443:Event:31233
DTSTAMP:20260421T131525Z
SUMMARY:Haldimand SCIA MTO Truck Trip Inspection Workshop
DESCRIPTION:Do you have questions about the use of agriculture husband
 ry vehicles on Ontario's roads? Come out to this hands-on workshop to 
 hear from MTO's Kerry Wirachowsky and have your questions answered.  S
 upper included.  FREE to OSCIA members, $10 for non-OSCIA members. All
  welcome.  Haldimand residents, please come prepared to renew your thr
 ee-year membership ($90).  For information: John Hussack at jhussack@c
 larkagriservice.com or Dianne Booker at 905-899-3748 or cwdibooker@gma
 il.com.\n\nFor more information visit https://ontag.farms.com/events/h
 aldimand-scia-mto-truck-trip-inspection-workshop
DTSTART;TZID=Pacific/Midway:20120328T173000
DTEND;TZID=Pacific/Midway:20120328T213000
CATEGORIES:workshop
LOCATION:Egger's Truck & Machine Ltd.
WEBSITE:http://www.oscia.cloverpad.org
URL:http://www.oscia.cloverpad.org
CONTACT:905-899-3748
ORGANIZER;CN="Golden Horseshoe SCIA":https://ontag.farms.com/profile/G
 oldenHorseshoeSCIA
ATTACH;FMTTYPE="image/jpeg":
ATTENDEE;ROLE=REQ-PARTICIPANT;PARTSTAT=ACCEPTED;RSVP=TRUE;CN="Golden H
 orseshoe SCIA":https://ontag.farms.com/profile/GoldenHorseshoeSCIA
END:VEVENT
END:VCALENDAR
