BEGIN:VCALENDAR
PRODID:NingEventWidget-v1
VERSION:2.0
METHOD:PUBLISH
BEGIN:VTIMEZONE
TZID:Pacific/Midway
X-LIC-LOCATION:Pacific/Midway
BEGIN:STANDARD
TZOFFSETFROM:-1100
TZOFFSETTO:-1100
TZNAME:SST
DTSTART:19700101T000000
END:STANDARD
END:VTIMEZONE
BEGIN:VEVENT
UID:3646443:Event:16270
DTSTAMP:20260421T003759Z
SUMMARY:Halton SCIA Summer Sunset Tour
DESCRIPTION:Halton SCIA Summer Sunset Tour. Meet at Monaghan Mushrooms
 , 7345 Guelph Line, Campbellville, 6:30 pm for a tour focusing on mush
 room production and wheat straw markets. Tour moves to Peter and Liz L
 ambrick’s farm, 8405 Guelph Line for a presentation on solar panels 
 with Brian Horner of Land and Sky Green Energy. BBQ to follow. Everyon
 e welcome. For information: Peter Lambrick at 905-854-9957 or lambrick
 farms@bell.net.\n\nFor more information visit https://ontag.farms.com/
 events/halton-scia-summer-sunset-tour
DTSTART;TZID=Pacific/Midway:20110719T183000
DTEND;TZID=Pacific/Midway:20110719T213000
CATEGORIES:education, social
LOCATION:Monaghan Mushrooms
WEBSITE:http://www.ghscia.com
URL:http://www.ghscia.com
CONTACT:905-854-9957 or email: lambrickfarms@bell.net
ORGANIZER:Halton SCIA
ATTACH;FMTTYPE="image/jpeg":
ATTENDEE;ROLE=REQ-PARTICIPANT;PARTSTAT=ACCEPTED;RSVP=TRUE;CN="Golden H
 orseshoe SCIA":https://ontag.farms.com/profile/GoldenHorseshoeSCIA
END:VEVENT
END:VCALENDAR
