BEGIN:VCALENDAR
PRODID:NingEventWidget-v1
VERSION:2.0
METHOD:PUBLISH
BEGIN:VTIMEZONE
TZID:Pacific/Midway
X-LIC-LOCATION:Pacific/Midway
BEGIN:STANDARD
TZOFFSETFROM:-1100
TZOFFSETTO:-1100
TZNAME:SST
DTSTART:19700101T000000
END:STANDARD
END:VTIMEZONE
BEGIN:VEVENT
UID:3646443:Event:106381
DTSTAMP:20260420T064232Z
SUMMARY:Handling Poor Performance in a Virtual World
DESCRIPTION:The trend toward remote working began long ago but the pan
 demic has accelerated it, leaving the world of work forever changed. T
 he migration to virtual work has caused unique and unforeseen challeng
 es for leaders, especially in the area of performance management. Peak
  performance is directly correlated to specific leadership and operati
 onal practices, but poor performance can arise even when these are wel
 l executed. In this workshop, we will explore both the core leadership
  strategies that lead to high performance and how to address underperf
 orming remote workers.\r\nPre-approved for one continuing education cr
 edit hour from SHRM and HRCI.\r\nLearning Objectives:\r\n\r\nHow to es
 tablish clarity at the organization, team, and individual level\r\nSet
 ting effective goals and aligning them for success\r\nFeedback and per
 formance management best practices\r\nCorrecting poor performance\r\n\
 r\n\r\n\r\n\n\nFor more information visit https://ontag.farms.com/even
 ts/handling-poor-performance-in-a-virtual-world
DTSTART;TZID=Pacific/Midway:20210326T100000
DTEND;TZID=Pacific/Midway:20210326T110000
CATEGORIES:virtual, event
LOCATION:online
WEBSITE:https://register.gotowebinar.com/register/8142300731957324045
URL:https://register.gotowebinar.com/register/8142300731957324045
CONTACT:
ORGANIZER:Agcareers.com
ATTACH;FMTTYPE="image/jpeg":https://storage.ning.com/topology/rest/1.0
 /file/get/8685774255?profile=original
ATTENDEE;ROLE=REQ-PARTICIPANT;PARTSTAT=ACCEPTED;RSVP=TRUE;CN="OntAG Ad
 min":https://ontag.farms.com/profile/OntAGAdmin
END:VEVENT
END:VCALENDAR
