BEGIN:VCALENDAR
PRODID:NingEventWidget-v1
VERSION:2.0
METHOD:PUBLISH
BEGIN:VTIMEZONE
TZID:Pacific/Midway
X-LIC-LOCATION:Pacific/Midway
BEGIN:STANDARD
TZOFFSETFROM:-1100
TZOFFSETTO:-1100
TZNAME:SST
DTSTART:19700101T000000
END:STANDARD
END:VTIMEZONE
BEGIN:VEVENT
UID:3646443:Event:22358
DTSTAMP:20260421T214838Z
SUMMARY:Harvest for Hunger - Combines Set to Roll for World Record Att
 empt
DESCRIPTION:LISTOWEL/MONKTON AREA. One hundred combines will be gather
 ing on a Perth County farm on September 30 to set a world record soybe
 an harvest.\nA group of farmers from the Listowel/Monkton area have pr
 epared a 160-acre field of soybeans with a goal of harvesting it in le
 ss than 10 minutes. \n“Our goal is to gather as many combines as po
 ssible to harvest the field in a very short period of time,” says Ra
 ndy Drenth, one of the organizers.\nThe project, dubbed Harvest for Hu
 nger, is a unique growing project that will raise money for the Canadi
 an Foodgrains Bank. The use of the land, field work, seed, fertilizer,
  crop protection, fuel and crop scouting has been donated so that 100%
  of the proceeds from this harvest can be used to alleviate hunger aro
 und the world. The group’s goal is to raise $200,000 by auctioning t
 he soybeans at the site right after the harvest on September 30. \nAn
 yone interested in participating with their combine should register by
  contacting Peter Rastorfer at 519 347 2669, or by email to harvest4hu
 nger@hotmail.ca.\nThe public is invited to support the project by comi
 ng to watch the record breaking event on Highway 23, 1 kilometre north
  of Monkton (between Listowel & Mitchell). Come for lunch — beef and
  pork on a bun will be served.\nThe public can also be part of the fun
 draising by donating $20 per bushel to the Harvest for Hunger project 
 to the Canadian Foodgrains Bank. Donate. \nUpdates on the plans for t
 he world record attempt can be found at Harvest for Hunger or Canadian
  Foodgrains Bank.\n \n- 30 -\n \nFor more information, contact Elber
 t van Donkersgoed, 519-763-2589 or harvest4hunger@terracoeur.ca.\n\nFo
 r more information visit https://ontag.farms.com/events/harvest-for-hu
 nger-combines-set-to-roll-for-world-record-attempt
DTSTART;TZID=Pacific/Midway:20110930T000000
DTEND;TZID=Pacific/Midway:20110930T235900
CATEGORIES:fundraiser
LOCATION:between Listowel & Mitchell
WEBSITE:
URL:
CONTACT:
ORGANIZER:Canadian Foodgrains Bank
ATTACH;FMTTYPE="image/jpeg":http://storage.ning.com/topology/rest/1.0/
 file/get/1091513567?profile=original
ATTENDEE;ROLE=REQ-PARTICIPANT;PARTSTAT=ACCEPTED;RSVP=TRUE;CN="OntAG Ad
 min":https://ontag.farms.com/profile/OntAGAdmin
END:VEVENT
END:VCALENDAR
