BEGIN:VCALENDAR
PRODID:NingEventWidget-v1
VERSION:2.0
METHOD:PUBLISH
BEGIN:VTIMEZONE
TZID:Pacific/Midway
X-LIC-LOCATION:Pacific/Midway
BEGIN:STANDARD
TZOFFSETFROM:-1100
TZOFFSETTO:-1100
TZNAME:SST
DTSTART:19700101T000000
END:STANDARD
END:VTIMEZONE
BEGIN:VEVENT
UID:3646443:Event:53024
DTSTAMP:20260421T141239Z
SUMMARY:Hasting County Plowing Match and Farm Show
DESCRIPTION:Eastern Ontario’s Largest Outdoor Farm Show will take pl
 ace August 20 and 21, 2014. The site this year is 809 Salem Road, in Q
 uinte West, just north of the village of Stirling at the farm of Jim a
 nd Larry Forestell. There are two non-stop days of family events. We h
 ave a Children s Tent, Family Tent, Antique displays & parade and of c
 ourse the Queen of the Furrow Competition.\nWe have plowing for everyo
 ne, 4H plowing, antique horse and tractor plowing, media plowing, dign
 itary plowing, conventional plowing and oldest plow person division. D
 emos this year include hay and tillage equipment weather permitting.\n
 It will be a busy two day event. Tented City covers close to 20 acres 
 of displays of everything to do with farming.\nIn closing I would like
  to thank all committee members, exhibitors, Quinte West and staff, an
 d especially the hosts Jim and Larry Forestell. Without their contribu
 tions this would not be possible. Thanks again and I hope to see you t
 here.\nJim Gunning2014 President\n\nFor more information visit https:/
 /ontag.farms.com/events/hasting-county-plowing-match-and-farm-show-1
DTSTART;TZID=Pacific/Midway:20140820T090000
DTEND;TZID=Pacific/Midway:20140821T160000
CATEGORIES:farm, show
LOCATION:Quinte West
WEBSITE:http://www.hastingsfarmshow.com/
URL:http://www.hastingsfarmshow.com/
CONTACT:613-395-5177
ORGANIZER;CN="OntAG Admin":https://ontag.farms.com/profile/OntAGAdmin
ATTACH;FMTTYPE="image/jpeg":
ATTENDEE;ROLE=REQ-PARTICIPANT;PARTSTAT=ACCEPTED;RSVP=TRUE;CN="OntAG Ad
 min":https://ontag.farms.com/profile/OntAGAdmin
END:VEVENT
END:VCALENDAR
